BEGIN:VCALENDAR
VERSION:2.0
PRODID:-//ChamberMaster//Event Calendar 2.0//EN
METHOD:PUBLISH
X-PUBLISHED-TTL:P3D
REFRESH-INTERVAL:P3D
CALSCALE:GREGORIAN
BEGIN:VEVENT
DTSTART:20150924T220000Z
DTEND:20150924T234500Z
X-MICROSOFT-CDO-ALLDAYEVENT:FALSE
SUMMARY:100+ Women Who Care Emerald Coast 3rd Quarter Meeting
DESCRIPTION:
X-ALT-DESC;FMTTYPE=text/html:
LOCATION:
UID:e.1694.4328
SEQUENCE:3
DTSTAMP:20260420T084022Z
URL:https://business.navarrechamber.com/events/details/100-women-who-care-emerald-coast-3rd-quarter-meeting-4328
END:VEVENT

END:VCALENDAR
