BEGIN:VCALENDAR
VERSION:2.0
PRODID:-//ChamberMaster//Event Calendar 2.0//EN
METHOD:PUBLISH
X-PUBLISHED-TTL:P3D
REFRESH-INTERVAL:P3D
CALSCALE:GREGORIAN
BEGIN:VEVENT
DTSTART:20150907T170000Z
DTEND:20150907T210000Z
X-MICROSOFT-CDO-ALLDAYEVENT:FALSE
SUMMARY:8th Annual Rubber Duck Derby & Mullet Toss
DESCRIPTION:Presented by the Navarre Krewe of Jesters:\n\n\n\n8th Annual Rubber Duck Derby & Mullet Toss\n\n\n\nAll day family fun event!\n\n\n\nEntertainment!    Games!    Prizes!\n\n\n\nRace begins at 3 pm - Awards at 4 pm - $300 1st Place Award (Duck Derby)\n\n\n\nYou do not have to be present to win!  Winners will be posted in Navarre Press.\n\n\n\nAll proceeds benefit NKOJ Scholarship Fund and Navarre Beach Mardi Gras Parade\n\n\n\nCLICK HERE for a copy of the event flyer
X-ALT-DESC;FMTTYPE=text/html:Presented by the Navarre Krewe of Jesters:<br />\n<br />\n8th Annual Rubber Duck Derby &amp\; Mullet Toss<br />\n<br />\nAll day family fun event!<br />\n<br />\nEntertainment!&nbsp\;&nbsp\;&nbsp\; Games!&nbsp\;&nbsp\;&nbsp\; Prizes!<br />\n<br />\nRace begins at 3 pm - Awards at 4 pm - $300 1st Place Award (Duck Derby)<br />\n<br />\nYou do not have to be present to win!&nbsp\; Winners will be posted in Navarre Press.<br />\n<br />\nAll proceeds benefit NKOJ Scholarship Fund and Navarre Beach Mardi Gras Parade<br />\n<br />\n<a href="http://cloud.chambermaster.com/userfiles/UserFiles/chambers/1694/File/duckderby.pdf">CLICK HERE</a>&nbsp\;for a copy of the event flyer<br />\n&nbsp\;
LOCATION:Juana's Pagodas Navarre Beach
UID:e.1694.4523
SEQUENCE:3
DTSTAMP:20260420T083415Z
URL:https://business.navarrechamber.com/events/details/8th-annual-rubber-duck-derby-mullet-toss-4523
END:VEVENT

END:VCALENDAR
