BEGIN:VCALENDAR
VERSION:2.0
PRODID:-//ChamberMaster//Event Calendar 2.0//EN
METHOD:PUBLISH
X-PUBLISHED-TTL:P3D
REFRESH-INTERVAL:P3D
CALSCALE:GREGORIAN
BEGIN:VEVENT
DTSTART:20150908T230000Z
DTEND:20150909T000000Z
X-MICROSOFT-CDO-ALLDAYEVENT:FALSE
SUMMARY:Ambassadors Committee Meeting
DESCRIPTION:Our Ambassador Meeting scheduled for Tuesday\, September 8\, 2015 will be at 6:00 p.m. at Culvers.  Please place your order upon arrival and we can enjoy our meals while we have our meeting.  We will discuss having the pot luck dinner for the December Meeting.  Please RSVP and let me know if you will be available to attend the meeting.  Thank you! :)\n\n \n\n \n\nKathi McMullen \n\nAmbassador Chair\n\n630-788-8812
X-ALT-DESC;FMTTYPE=text/html:<span style="font-size: medium\;"><span style="font-family: consolas\;">Our Ambassador Meeting scheduled for Tuesday\, September 8\, 2015 will be at 6:00 p.m. at Culvers.&nbsp\; Please place your order upon arrival and we can enjoy our meals while we have our meeting.&nbsp\; We will discuss having the pot luck dinner for the December Meeting.&nbsp\; Please RSVP and let me know if you will be available to attend the meeting.&nbsp\; Thank you! :)</span></span><br />\n&nbsp\;<br />\n&nbsp\;<br />\n<span style="font-size: medium\;"><span style="font-family: consolas\;">Kathi McMullen&nbsp\;</span></span><br />\n<span style="font-size: medium\;"><span style="font-family: consolas\;">Ambassador Chair</span></span><br />\n<span style="font-size: medium\;"><span style="font-family: consolas\;">630-788-8812&nbsp\;</span></span><br />\n&nbsp\;
LOCATION:Culver's of Navarre 8792 Navarre Parkway
UID:e.1694.5826
SEQUENCE:3
DTSTAMP:20260420T085036Z
URL:https://business.navarrechamber.com/events/details/ambassadors-committee-meeting-5826
END:VEVENT

END:VCALENDAR
