BEGIN:VCALENDAR
VERSION:2.0
PRODID:-//ChamberMaster//Event Calendar 2.0//EN
METHOD:PUBLISH
X-PUBLISHED-TTL:P3D
REFRESH-INTERVAL:P3D
CALSCALE:GREGORIAN
BEGIN:VEVENT
DTSTART:20261115T000000Z
DTEND:20261115T040000Z
X-MICROSOFT-CDO-ALLDAYEVENT:FALSE
SUMMARY:Annual SAIL Awards\, Installation & Culinary Tour of the Navarre Area
DESCRIPTION:SAVE THE DATE!! \n\n\n\nLooking ahead\, the Navarre Beach Area Chamber of Commerce is excited to announce that beginning this November - and moving forward - our Annual SAIL Awards will transition to an evening event held each fall. This new format will feature a culinary dinner tour of the Navarre area\, entertainment\, an auction\, networking with community leaders\, and more.\n\n\n\nPlease save the date: Saturday\, November 14\, 2026 - we can't wait to celebrate with you!\n\n\n\nMORE DETAILS TO BE ANNOUNCED SOON!
X-ALT-DESC;FMTTYPE=text/html:<span style="font-size:24px\;"><strong>SAVE THE DATE!!&nbsp\;<br />\n<br />\nLooking ahead\, the Navarre Beach Area Chamber of Commerce is excited to announce that beginning this November - and moving forward - our Annual SAIL Awards will transition to an evening event held each fall. This new format will feature a culinary dinner tour of the Navarre area\, entertainment\, an auction\, networking with community leaders\, and more.<br />\n<br />\n<u>Please save the date</u>: Saturday\, November 14\, 2026 - we can&rsquo\;t wait to celebrate with you!<br />\n<br />\nMORE DETAILS TO BE ANNOUNCED SOON!</strong></span>
LOCATION:
UID:e.1694.33922
SEQUENCE:3
DTSTAMP:20260421T101644Z
URL:https://business.navarrechamber.com/events/details/annual-sail-awards-installation-culinary-tour-of-the-navarre-area-33922
END:VEVENT

END:VCALENDAR
