BEGIN:VCALENDAR
VERSION:2.0
PRODID:-//ChamberMaster//Event Calendar 2.0//EN
METHOD:PUBLISH
X-PUBLISHED-TTL:P3D
REFRESH-INTERVAL:P3D
CALSCALE:GREGORIAN
BEGIN:VEVENT
DTSTART:20260517T180000Z
DTEND:20260517T200000Z
X-MICROSOFT-CDO-ALLDAYEVENT:FALSE
SUMMARY:Bows & Bowties - Benefiting Children in Crisis\, Inc.
DESCRIPTION:When a community comes together with love and purpose\, incredible things happen. Bows & Bowties celebrates the special bond between boys and the women who lift them up mothers\, grandmothers\, aunts\, mentors\, and mother figures honoring the kind of love that builds confidence\, strengthens connections\, and creates memories that last a lifetime.\n\n\n\nBeyond the laughter and dancing\, this event carries a powerful mission: to raise essential funds for Children in Crisis\, Inc. Every sponsorship helps provide safe homes\, care\, and stability for local foster children\, ensuring brothers and sisters can stay together and that no child has to face life alone.
X-ALT-DESC;FMTTYPE=text/html:When a community comes together with love and purpose\, incredible things happen. Bows &amp\; Bowties celebrates the special bond between boys and the women who lift them up&mdash\;mothers\, grandmothers\, aunts\, mentors\, and mother figures&mdash\;honoring the kind of love that builds confidence\, strengthens connections\, and creates memories that last a lifetime.<br />\n<br />\nBeyond the laughter and dancing\, this event carries a powerful mission: to raise essential funds for Children in Crisis\, Inc. Every sponsorship helps provide safe homes\, care\, and stability for local foster children\, ensuring brothers and sisters can stay together and that no child has to face life alone.<br />\n&nbsp\;
LOCATION:Holly By The Sea Beach House 6845 Navarre Pkwy\, Navarre\, FL 32566
UID:e.1694.34748
SEQUENCE:3
DTSTAMP:20260420T165318Z
URL:https://business.navarrechamber.com/events/details/bows-bowties-benefitting-children-in-crisis-inc-34748
END:VEVENT

END:VCALENDAR
