BEGIN:VCALENDAR
VERSION:2.0
PRODID:-//ChamberMaster//Event Calendar 2.0//EN
METHOD:PUBLISH
X-PUBLISHED-TTL:P3D
REFRESH-INTERVAL:P3D
CALSCALE:GREGORIAN
BEGIN:VEVENT
DTSTART:20150806T140000Z
DTEND:20150806T150000Z
X-MICROSOFT-CDO-ALLDAYEVENT:FALSE
SUMMARY:Chamber 201: Navigating the Chamber's Website and Marketing Opportunities
DESCRIPTION:Navarre Chamber members are invited to attend this workshop to learn more about navigating the Chamber's website.
X-ALT-DESC;FMTTYPE=text/html:Navarre Chamber members are invited to attend this workshop to learn more about navigating the Chamber&#39\;s website.
LOCATION:
UID:e.1694.4508
SEQUENCE:3
DTSTAMP:20260422T083104Z
URL:https://business.navarrechamber.com/events/details/chamber-201-navigating-the-chamber-s-website-and-marketing-opportunities-4508
END:VEVENT

END:VCALENDAR
