BEGIN:VCALENDAR
VERSION:2.0
PRODID:-//ChamberMaster//Event Calendar 2.0//EN
METHOD:PUBLISH
X-PUBLISHED-TTL:P3D
REFRESH-INTERVAL:P3D
CALSCALE:GREGORIAN
BEGIN:VEVENT
DTSTART:20150925T120000Z
DTEND:20150925T140000Z
X-MICROSOFT-CDO-ALLDAYEVENT:FALSE
SUMMARY:Commerce & Coffee and Member to Member Industry Showcase
DESCRIPTION:CLICK HERE for a copy of the details
X-ALT-DESC;FMTTYPE=text/html:<a href="http://cloud.chambermaster.com/userfiles/UserFiles/chambers/1694/File/SEPTFlier1.pdf">CLICK HERE</a> for a copy of the details
LOCATION:Days Inn / Navarre Conference Center
UID:e.1694.5860
SEQUENCE:3
DTSTAMP:20260420T085357Z
URL:https://business.navarrechamber.com/events/details/commerce-coffee-and-member-to-member-industry-showcase-5860
END:VEVENT

END:VCALENDAR
