BEGIN:VCALENDAR
VERSION:2.0
PRODID:-//ChamberMaster//Event Calendar 2.0//EN
METHOD:PUBLISH
X-PUBLISHED-TTL:P3D
REFRESH-INTERVAL:P3D
CALSCALE:GREGORIAN
BEGIN:VEVENT
DTSTART:20150910T223000Z
DTEND:20150911T000000Z
X-MICROSOFT-CDO-ALLDAYEVENT:FALSE
SUMMARY:CONNECT 1730
DESCRIPTION:Sponsored by:  Children in Crisis
X-ALT-DESC;FMTTYPE=text/html:Sponsored by:&nbsp\; Children in Crisis
LOCATION:Navarre Chamber 8543 Navarre Parkway
UID:e.1694.4534
SEQUENCE:3
DTSTAMP:20260420T084753Z
URL:https://business.navarrechamber.com/events/details/connect-1730-09-10-2015-4534
END:VEVENT

END:VCALENDAR
