BEGIN:VCALENDAR
VERSION:2.0
PRODID:-//ChamberMaster//Event Calendar 2.0//EN
METHOD:PUBLISH
X-PUBLISHED-TTL:P3D
REFRESH-INTERVAL:P3D
CALSCALE:GREGORIAN
BEGIN:VEVENT
DTSTART:20150914T143000Z
DTEND:20150914T153000Z
X-MICROSOFT-CDO-ALLDAYEVENT:FALSE
SUMMARY:Economic Development Committee
DESCRIPTION:Billy Sublett\, the Executive Director of the Holley-Navarre Water System will be speaking to the Navarre Chamber's Economic Development Committee.  He will be discussing some of the changes at HNWS\, and then taking questions from committee members.\n\n\n\nIf you are interested in getting involved with the Navarre Chamber's Economic Development Committee\, please plan on attending.
X-ALT-DESC;FMTTYPE=text/html:<span style="color: rgb(31\, 73\, 125)\;"><span style="font-size: medium\;"><span style="font-family: calibri\;">Billy Sublett\, the Executive Director of the Holley-Navarre Water System will be speaking to the Navarre Chamber&#39\;s Economic Development Committee.&nbsp\; He will be discussing some of the changes at HNWS\, and then taking questions from committee members.<br />\n<br />\nIf you are interested in getting involved with the Navarre Chamber&#39\;s Economic Development Committee\, please plan on attending.</span></span></span>
LOCATION:Navarre Chamber 8543 Navarre Parkway
UID:e.1694.4263
SEQUENCE:3
DTSTAMP:20260420T083056Z
URL:https://business.navarrechamber.com/events/details/economic-development-committee-09-14-2015-4263
END:VEVENT

END:VCALENDAR
