BEGIN:VCALENDAR
VERSION:2.0
PRODID:-//ChamberMaster//Event Calendar 2.0//EN
METHOD:PUBLISH
X-PUBLISHED-TTL:P3D
REFRESH-INTERVAL:P3D
CALSCALE:GREGORIAN
BEGIN:VEVENT
DTSTART:20231211T150000Z
DTEND:20231211T160000Z
X-MICROSOFT-CDO-ALLDAYEVENT:FALSE
SUMMARY:Emerald Coast Association of Realtors - Navarre Open House
DESCRIPTION:All REALTORS and Affiliates in the Navarre area are invited to join us on Monday\, December 11th at 9 am until 10 am for the ECAR Member Monday Open House in Navarre!\n\nMember Monday is an open house format providing an opportunity for attendees to "ask anything" about ECAR in an informal setting.\n\nThis is your chance to get answers to ECAR related questions. \n\nFor example:\n\n\n	how to use SUPRA\n	how to register for classes online\n	how to sign up for MLS Tours\, etc. \n\n\nECAR staff and committee volunteers will be on hand to answer any ECAR questions you may have.\n\nRegistration encouraged but not required.
X-ALT-DESC;FMTTYPE=text/html:<p class="_04xlpA direction-ltr align-start para-style-body" style="box-sizing: border-box\; margin: 0px\; padding: 0px 0px 1em\; border: 0px\; outline: 0px\; font-size: 16px\; text-size-adjust: 100%\; vertical-align: baseline\; background: rgb(255\, 255\, 255)\; color: rgb(102\, 102\, 102)\; font-family: Raleway\, Helvetica\, Arial\, Lucida\, sans-serif\;"><span class="JsGRdQ" style="box-sizing: border-box\; margin: 0px\; padding: 0px\; border: 0px\; outline: 0px\; text-size-adjust: 100%\; vertical-align: baseline\; background: transparent\;">All REALTORS and Affiliates in the Navarre area are invited to join us on Monday\, December 11th at 9 am until 10 am for the</span><span class="JsGRdQ white-space-prewrap" style="box-sizing: border-box\; margin: 0px\; padding: 0px\; border: 0px\; outline: 0px\; text-size-adjust: 100%\; vertical-align: baseline\; background: transparent\;">&nbsp\;</span><span class="JsGRdQ" style="box-sizing: border-box\; margin: 0px\; padding: 0px\; border: 0px\; outline: 0px\; text-size-adjust: 100%\; vertical-align: baseline\; background: transparent\;">ECAR Member Monday Open House in Navarre</span><span class="JsGRdQ" style="box-sizing: border-box\; margin: 0px\; padding: 0px\; border: 0px\; outline: 0px\; text-size-adjust: 100%\; vertical-align: baseline\; background: transparent\;">!</span></p>\n\n<p class="_04xlpA direction-ltr align-start para-style-body" style="box-sizing: border-box\; margin: 0px\; padding: 0px 0px 1em\; border: 0px\; outline: 0px\; font-size: 16px\; text-size-adjust: 100%\; vertical-align: baseline\; background: rgb(255\, 255\, 255)\; color: rgb(102\, 102\, 102)\; font-family: Raleway\, Helvetica\, Arial\, Lucida\, sans-serif\;"><span class="JsGRdQ" style="box-sizing: border-box\; margin: 0px\; padding: 0px\; border: 0px\; outline: 0px\; text-size-adjust: 100%\; vertical-align: baseline\; background: transparent\;">Member Monday is an open house format providing an opportunity for attendees to &ldquo\;ask anything&rdquo\; about ECAR in an informal setting.</span></p>\n\n<p class="_04xlpA direction-ltr align-start para-style-body" style="box-sizing: border-box\; margin: 0px\; padding: 0px 0px 1em\; border: 0px\; outline: 0px\; font-size: 16px\; text-size-adjust: 100%\; vertical-align: baseline\; background: rgb(255\, 255\, 255)\; color: rgb(102\, 102\, 102)\; font-family: Raleway\, Helvetica\, Arial\, Lucida\, sans-serif\;"><span class="JsGRdQ" style="box-sizing: border-box\; margin: 0px\; padding: 0px\; border: 0px\; outline: 0px\; text-size-adjust: 100%\; vertical-align: baseline\; background: transparent\;">This is your chance to get answers to ECAR related questions.&nbsp\;</span></p>\n\n<p class="_04xlpA direction-ltr align-start para-style-body" style="box-sizing: border-box\; margin: 0px\; padding: 0px 0px 1em\; border: 0px\; outline: 0px\; font-size: 16px\; text-size-adjust: 100%\; vertical-align: baseline\; background: rgb(255\, 255\, 255)\; color: rgb(102\, 102\, 102)\; font-family: Raleway\, Helvetica\, Arial\, Lucida\, sans-serif\;"><span class="JsGRdQ" style="box-sizing: border-box\; margin: 0px\; padding: 0px\; border: 0px\; outline: 0px\; text-size-adjust: 100%\; vertical-align: baseline\; background: transparent\;">For example:</span></p>\n\n<ul>\n	<li class="_04xlpA direction-ltr align-start para-style-body" style="box-sizing: border-box\; margin: 0px\; padding: 0px 0px 1em\; border: 0px\; outline: 0px\; font-size: 16px\; text-size-adjust: 100%\; vertical-align: baseline\; background: rgb(255\, 255\, 255)\; color: rgb(102\, 102\, 102)\; font-family: Raleway\, Helvetica\, Arial\, Lucida\, sans-serif\;"><span class="JsGRdQ" style="box-sizing: border-box\; margin: 0px\; padding: 0px\; border: 0px\; outline: 0px\; text-size-adjust: 100%\; vertical-align: baseline\; background: transparent\;">how to use SUPRA</span></li>\n	<li class="_04xlpA direction-ltr align-start para-style-body" style="box-sizing: border-box\; margin: 0px\; padding: 0px 0px 1em\; border: 0px\; outline: 0px\; font-size: 16px\; text-size-adjust: 100%\; vertical-align: baseline\; background: rgb(255\, 255\, 255)\; color: rgb(102\, 102\, 102)\; font-family: Raleway\, Helvetica\, Arial\, Lucida\, sans-serif\;"><span class="JsGRdQ" style="box-sizing: border-box\; margin: 0px\; padding: 0px\; border: 0px\; outline: 0px\; text-size-adjust: 100%\; vertical-align: baseline\; background: transparent\;">how to register for classes online</span></li>\n	<li class="_04xlpA direction-ltr align-start para-style-body" style="box-sizing: border-box\; margin: 0px\; padding: 0px 0px 1em\; border: 0px\; outline: 0px\; font-size: 16px\; text-size-adjust: 100%\; vertical-align: baseline\; background: rgb(255\, 255\, 255)\; color: rgb(102\, 102\, 102)\; font-family: Raleway\, Helvetica\, Arial\, Lucida\, sans-serif\;"><span class="JsGRdQ" style="box-sizing: border-box\; margin: 0px\; padding: 0px\; border: 0px\; outline: 0px\; text-size-adjust: 100%\; vertical-align: baseline\; background: transparent\;">how to sign up for MLS Tours\, etc. </span></li>\n</ul>\n\n<div class="_04xlpA direction-ltr align-start para-style-body" style="box-sizing: border-box\; margin: 0px\; padding: 0px 0px 1em\; border: 0px\; outline: 0px\; font-size: 16px\; text-size-adjust: 100%\; vertical-align: baseline\; background: rgb(255\, 255\, 255)\; color: rgb(102\, 102\, 102)\; font-family: Raleway\, Helvetica\, Arial\, Lucida\, sans-serif\;"><span class="JsGRdQ" style="box-sizing: border-box\; margin: 0px\; padding: 0px\; border: 0px\; outline: 0px\; text-size-adjust: 100%\; vertical-align: baseline\; background: transparent\;">ECAR staff and committee volunteers will be on hand to answer any ECAR questions you may have.</span></div>\n\n<div class="_04xlpA direction-ltr align-start para-style-body" style="box-sizing: border-box\; margin: 0px\; padding: 0px\; border: 0px\; outline: 0px\; font-size: 16px\; text-size-adjust: 100%\; vertical-align: baseline\; background: rgb(255\, 255\, 255)\; color: rgb(102\, 102\, 102)\; font-family: Raleway\, Helvetica\, Arial\, Lucida\, sans-serif\;"><em style="box-sizing: border-box\; margin: 0px\; padding: 0px\; border: 0px\; outline: 0px\; text-size-adjust: 100%\; vertical-align: baseline\; background: transparent\;">Registration encouraged but not required.</em></div>\n
LOCATION:The Navarre Chamber Information Center 1804 Prado Street
UID:e.1694.26241
SEQUENCE:3
DTSTAMP:20260419T134109Z
URL:https://business.navarrechamber.com/events/details/emerald-coast-association-of-realtors-navarre-open-house-26241
END:VEVENT

END:VCALENDAR
