BEGIN:VCALENDAR
VERSION:2.0
PRODID:-//ChamberMaster//Event Calendar 2.0//EN
METHOD:PUBLISH
X-PUBLISHED-TTL:P3D
REFRESH-INTERVAL:P3D
CALSCALE:GREGORIAN
BEGIN:VEVENT
DTSTART:20150918T160000Z
DTEND:20150918T190000Z
X-MICROSOFT-CDO-ALLDAYEVENT:FALSE
SUMMARY:HNSA Annual Fish Fry
DESCRIPTION:The Holley-Navarre Seniors Association's Annual Fish Fry is Friday\, September 18\, 11am-2pm\, at the EH Pullum Senior Center\, 8476 Gordon Goodin Lane (across from the Navarre Library).\n\n\n\nSanta Rosa County Sheriff Wendell Hall will be frying fish & hush puppies. Sides wll be baked beans\, coleslaw\, beverage & dessert.
X-ALT-DESC;FMTTYPE=text/html:The Holley-Navarre Seniors Association&#39\;s Annual Fish Fry is Friday\, September 18\, 11am-2pm\, at the EH Pullum Senior Center\, 8476 Gordon Goodin Lane (across from the Navarre Library).<br />\n<br />\nSanta Rosa County Sheriff Wendell Hall will be frying fish &amp\; hush puppies. Sides wll be baked beans\, coleslaw\, beverage &amp\; dessert.
LOCATION:EH Pullum Senior Center 8476 Gordon Goodin Lane (across from the Navarre Library)
UID:e.1694.5848
SEQUENCE:3
DTSTAMP:20260420T085113Z
URL:https://business.navarrechamber.com/events/details/hnsa-annual-fish-fry-5848
END:VEVENT

END:VCALENDAR
