BEGIN:VCALENDAR
VERSION:2.0
PRODID:-//ChamberMaster//Event Calendar 2.0//EN
METHOD:PUBLISH
X-PUBLISHED-TTL:P3D
REFRESH-INTERVAL:P3D
CALSCALE:GREGORIAN
BEGIN:VEVENT
DTSTART:20241018T230000Z
DTEND:20241019T020000Z
X-MICROSOFT-CDO-ALLDAYEVENT:FALSE
SUMMARY:Juana Be Witched Witches Brew
DESCRIPTION:13th Annual event\, a great time to wear your best witch costume! Prize goes to "Best Dressed Witch" by popular crowd vote.  $25 at the door\, includes Hor d'ouevres\, Witches Brew/Grog\, Jello Shooters\, 1 Free Drink Ticket\, Happy Hour Wine and Domestic Draft\, $4 Blue Chair Bay Rum drinks.
X-ALT-DESC;FMTTYPE=text/html:<p>13th Annual event\, a great time to wear your best witch costume! Prize goes to &quot\;Best Dressed Witch&quot\; by popular crowd vote.&nbsp\; $25 at the door\, includes Hor d&#39\;ouevres\, Witches Brew/Grog\, Jello Shooters\, 1 Free Drink Ticket\, Happy Hour Wine and Domestic Draft\, $4 Blue Chair Bay Rum drinks.</p>\n
LOCATION:In the Club at Juana's Pagodas & Sailors' Grill\, 1451 Navarre Beach Causeway\, Navarre Beach\, FL
UID:e.1694.29983
SEQUENCE:3
DTSTAMP:20260419T182112Z
URL:https://business.navarrechamber.com/events/details/juana-be-witched-witches-brew-29983
END:VEVENT

END:VCALENDAR
