BEGIN:VCALENDAR
VERSION:2.0
PRODID:-//ChamberMaster//Event Calendar 2.0//EN
METHOD:PUBLISH
X-PUBLISHED-TTL:P3D
REFRESH-INTERVAL:P3D
CALSCALE:GREGORIAN
BEGIN:VEVENT
DTSTART:20241027T010000Z
DTEND:20241027T050000Z
X-MICROSOFT-CDO-ALLDAYEVENT:FALSE
SUMMARY:Juana's Halloween Extravaganza Party
DESCRIPTION:A great time to dress up Halloween style and dance to the tunes of Six Piece Suits!\n\nPrizes for best energy!
X-ALT-DESC;FMTTYPE=text/html:A great time to dress up Halloween style and dance to the tunes of Six Piece Suits!<br />\nPrizes for best energy!
LOCATION:Juana's Pagodas 1451 Navarre Beach Causeway\, Navarre Beach\, FL
UID:e.1694.29985
SEQUENCE:3
DTSTAMP:20260419T182318Z
URL:https://business.navarrechamber.com/events/details/juana-s-halloween-extravaganza-party-10-26-2024-29985
END:VEVENT

END:VCALENDAR
