BEGIN:VCALENDAR
VERSION:2.0
PRODID:-//ChamberMaster//Event Calendar 2.0//EN
METHOD:PUBLISH
X-PUBLISHED-TTL:P3D
REFRESH-INTERVAL:P3D
CALSCALE:GREGORIAN
BEGIN:VEVENT
DTSTART;VALUE=DATE:20150919
DTEND;VALUE=DATE:20150920
TRANSP:TRANSPARENT
X-MICROSOFT-CDO-ALLDAYEVENT:TRUE
SUMMARY:Krewe of Karibbean 2nd Annual Dead Pirate
DESCRIPTION:Come join us for Navarre's first color run!!!
X-ALT-DESC;FMTTYPE=text/html:Come join us for Navarre&#39\;s first color run!!!
LOCATION:Public parking lot across Navarre Bridge by the Boat Launch
UID:e.1694.5822
SEQUENCE:3
DTSTAMP:20260420T085610Z
URL:https://business.navarrechamber.com/events/details/krewe-of-karibbean-2nd-annual-dead-pirate-5822
END:VEVENT

END:VCALENDAR
