BEGIN:VCALENDAR
VERSION:2.0
PRODID:-//ChamberMaster//Event Calendar 2.0//EN
METHOD:PUBLISH
X-PUBLISHED-TTL:P3D
REFRESH-INTERVAL:P3D
CALSCALE:GREGORIAN
BEGIN:VEVENT
DTSTART:20250708T200000Z
DTEND:20250708T210000Z
X-MICROSOFT-CDO-ALLDAYEVENT:FALSE
SUMMARY:Live2Lead Navarre Planning Committee Meeting
DESCRIPTION:Save the Date: Live2Lead Navarre 2026\n\nFriday\, January 23\, 2026\n\nNavarre\, Florida\n\n\nLive2Lead Navarre 2026 Committee Meeting\n\nAre you passionate about leadership\, community impact\, and personal growth?\n\nWe invite you to be part of the planning team for one of Navarre's most inspiring leadership events Live2Lead Navarre 2026. Join us for the Live2Lead Navarre Committee Meeting to learn more and discover how you can help shape this incredible experience!\n\nDate: Tuesday\, July 8\, 2025\n\nTime:  3 PM \n\nLocation: The Navarre Chamber Information Center\n\nThis annual event brings leaders together to spark transformation within ourselves and across our community.\n\n\n\nWhether you're a seasoned volunteer or a first-time participant\, your voice and ideas are welcome.\n\n\nWhy Get Involved?\n\n\n	\n	Contribute to an event that empowers and uplifts others\n	\n	\n	Network with passionate community and business leaders\n	\n	\n	Grow your own leadership skills and mindset\n	\n	\n	Be part of something that truly makes a difference in Navarre\n	\n\n\n\nCommit to growth. Commit to leadership. Commit to impact.\n\nLive2Lead Navarre 2026 is your opportunity to invest in yourself and your community because everything rises and falls on leadership.\n\nRSVP Today and Join the Movement!\n\n\n\n\nCLICK HERE FOR MORE DETAILS ABOUT LIVE2LEAD NAVARRE EVENT ON FRIDAY\, JANUARY 23\, 2026.
X-ALT-DESC;FMTTYPE=text/html:<p data-end="207" data-start="102"><strong data-end="146" data-start="102">Save the Date: Live2Lead Navarre 2026</strong><br data-end="149" data-start="146" />\n<strong data-end="181" data-start="149">Friday\, January 23\, 2026</strong><br data-end="184" data-start="181" />\n<strong data-end="207" data-start="184">Navarre\, Florida</strong></p>\n\n<hr data-end="212" data-start="209" />\n<h3 data-end="262" data-start="214"><strong data-end="262" data-start="218">Live2Lead Navarre 2026 Committee Meeting</strong></h3>\n\n<p data-end="339" data-start="264">Are you passionate about leadership\, community impact\, and personal growth?</p>\n\n<p data-end="590" data-start="341">We invite you to be part of the planning team for one of Navarre&rsquo\;s most inspiring leadership events&mdash\;<strong data-end="467" data-start="441">Live2Lead Navarre 2026</strong>. Join us for the <strong data-end="512" data-start="485">Live2Lead Navarre Committee Meeting</strong> to learn more and discover how you can help shape this incredible experience!</p>\n\n<p data-end="763" data-start="592"><strong data-end="605" data-start="592">Date:</strong> Tuesday\, July 8\, 2025<br data-end="630" data-start="627" />\n<strong data-end="642" data-start="630">Time:</strong>&nbsp\; 3&nbsp\;PM&nbsp\;<br data-end="708" data-start="705" />\n<strong data-end="724" data-start="708">Location:</strong> The Navarre Chamber Information Center</p>\n\n<p data-end="972" data-start="765">This annual event brings leaders together to spark transformation&mdash\;within ourselves and across our community.<br />\n<br />\nWhether you&#39\;re a seasoned volunteer or a first-time participant\, your voice and ideas are welcome.</p>\n\n<hr data-end="977" data-start="974" />\n<h3 data-end="1004" data-start="979"><strong data-end="1004" data-start="983">Why Get Involved?</strong></h3>\n\n<ul data-end="1229" data-start="1005">\n	<li data-end="1062" data-start="1005">\n	<p data-end="1062" data-start="1007">Contribute to an event that empowers and uplifts others</p>\n	</li>\n	<li data-end="1119" data-start="1063">\n	<p data-end="1119" data-start="1065">Network with passionate community and business leaders</p>\n	</li>\n	<li data-end="1165" data-start="1120">\n	<p data-end="1165" data-start="1122">Grow your own leadership skills and mindset</p>\n	</li>\n	<li data-end="1229" data-start="1166">\n	<p data-end="1229" data-start="1168">Be part of something that truly makes a difference in Navarre</p>\n	</li>\n</ul>\n\n<hr data-end="1234" data-start="1231" />\n<p data-end="1439" data-start="1236"><strong data-end="1299" data-start="1236">Commit to growth. Commit to leadership. Commit to impact.</strong><br data-end="1302" data-start="1299" />\nLive2Lead Navarre 2026 is your opportunity to invest in yourself and your community&mdash\;because <strong data-end="1438" data-start="1394">everything rises and falls on leadership</strong>.</p>\n\n<p data-end="1478" data-start="1441"><strong data-end="1478" data-start="1441">RSVP Today and Join the Movement!</strong></p>\n<br />\n<br />\n<span style="font-size:24px\;"><strong><a href="https://business.navarrechamber.com/events/details/live2lead-navarre-31247?calendarMonth=2026-01-01"><span style="color:#FF0000\;">CLICK HERE FOR MORE DETAILS ABOUT LIVE2LEAD NAVARRE EVENT ON FRIDAY\, JANUARY 23\, 2026.</span></a></strong></span>
LOCATION:
UID:e.1694.33196
SEQUENCE:3
DTSTAMP:20260421T134113Z
URL:https://business.navarrechamber.com/events/details/live2lead-navarre-planning-committee-meeting-33196
END:VEVENT

END:VCALENDAR
