BEGIN:VCALENDAR
VERSION:2.0
PRODID:-//ChamberMaster//Event Calendar 2.0//EN
METHOD:PUBLISH
X-PUBLISHED-TTL:P3D
REFRESH-INTERVAL:P3D
CALSCALE:GREGORIAN
BEGIN:VEVENT
DTSTART:20250505T163000Z
DTEND:20250505T180000Z
X-MICROSOFT-CDO-ALLDAYEVENT:FALSE
SUMMARY:Military & Veteran Affairs Committee Meeting - Sponsored by: Springhill Suites Navarre Beach
DESCRIPTION:Everyone is invited to join us for our Military & Veteran Affairs Committee Meeting on Monday\, May 5th at 11:30 am at The Navarre Chamber Information Center at 1804 Prado Street (behind TC's Front Porch). \n\n												\n\n												Lunch begins at 11:30 am\, and the Meeting will begin at 11:45 am.\n\n												\n\n												Guest Speaker: Lt Col (Ret) Mark Chapman from the General Chappie James Memorial.\n\n												\n\n												Meeting Sponsor: Springhill Suites Navarre Beach\n											\n											\n												\n												\n													\n														\n															\n															When\n															\n														\n													\n												\n\n												Monday May 5\, 2025   11:30am   12:30pm (Central Time - Chicago)\n												\n											\n											\n												\n												\n													\n														\n															\n															Location\n															\n														\n													\n												\n\n												Navarre Beach Area Chamber of Commerce\, 1804 Prado St suite a\, Navarre\, FL 32566\, USA\n\n												View map\n												\n											\n											\n												\n												\n													\n														\n															\n															Organizer\n															\n														\n													\n												\n\n												Kristen Rhodes\n\n												kristenrhodesrealtor@gmail.com\n												\n											\n											\n												\n												\n													\n														\n															\n															Guests\n															\n														\n													\n												\n\n												(Guest list has been hidden at organizer's request)\n												\n											\n											\n												Reply for chanda.ryan@navarrechamber.com\n											\n											\n												\n												\n													\n														\n															\n															\n																\n																	\n																		\n																		\n																			\n																				\n																					Yes\n																				\n																			\n																		\n\n																		 \n																		\n																		\n																		\n																			\n																				\n																					No\n																				\n																			\n																		\n\n																		 \n																		\n																		\n																		\n																			\n																				\n																					Maybe\n																				\n																			\n																		\n\n																		 \n																		\n																	\n																\n															\n\n															 \n\n															\n																\n																	\n																		More options
X-ALT-DESC;FMTTYPE=text/html:<table align="center" border="0" cellpadding="0" cellspacing="0" style="width:100.0%\;" width="100%">\n	<tbody>\n		<tr>\n			<td style="border:solid #DADCE0 1.0pt\;padding:.25in 24.0pt .25in 24.0pt\;vertical-align:top\;">\n			<table align="left" border="0" cellpadding="0" cellspacing="0" dir="rtl">\n				<tbody>\n					<tr>\n						<td style="padding:0in 0in 0in 0in\;">\n						<table border="0" cellpadding="0" cellspacing="0" style="width:100.0%\;" width="100%">\n							<tbody>\n								<tr>\n									<td style="padding:0in 0in 0in 0in\;vertical-align:top\;">\n									<table border="0" cellpadding="0" cellspacing="0" style="width:100.0%\;" width="100%">\n										<tbody>\n											<tr>\n												<td style="padding: 0in 0in 0.25in\; text-align: left\;"><u><span style="letter-spacing:.15pt\;"><span style="color:#3C4043\;"><span style="font-family:roboto\;"><span style="font-size:10.5pt\;">Everyone is invited</span></span></span></span></u><span style="letter-spacing:.15pt\;"><span style="color:#3C4043\;"><span style="font-family:roboto\;"><span style="font-size:10.5pt\;">&nbsp\;to join us for our Military &amp\; Veteran Affairs Committee Meeting on Monday\, May 5th at 11:30 am at The Navarre Chamber Information Center at 1804 Prado Street (behind TC&#39\;s Front Porch).&nbsp\;<br />\n												<br />\n												Lunch begins at 11:30 am\, and the Meeting will begin at 11:45 am.<br />\n												<br />\n												Guest Speaker:&nbsp\;Lt Col (Ret) Mark Chapman from the General Chappie James Memorial.<br />\n												<br />\n												Meeting Sponsor: Springhill Suites Navarre Beach</span></span></span></span></td>\n											</tr>\n											<tr>\n												<td style="padding:0in 0in .25in 0in\;">\n												<table border="0" cellpadding="0" cellspacing="0" role="presentation">\n													<tbody>\n														<tr>\n															<td style="padding:0in 0in 3.0pt 0in\;word-break:break-word\;">\n															<h2 style="text-align: left\;"><span aria-hidden="true">When</span></h2>\n															</td>\n														</tr>\n													</tbody>\n												</table>\n\n												<div style="text-align: left\;"><span style="letter-spacing:.15pt\;"><span style="color:#3C4043\;"><span style="font-family:roboto\;"><span style="font-size:10.5pt\;">Monday May 5\, 2025 </span></span></span></span><span style="letter-spacing:.15pt\;"><span style="color:#3C4043\;"><span style="font-family:cambria math\,serif\;"><span style="font-size:10.5pt\;">&sdot\;</span></span></span></span><span style="letter-spacing:.15pt\;"><span style="color:#3C4043\;"><span style="font-family:roboto\;"><span style="font-size:10.5pt\;"> 11:30am </span></span></span></span><span style="letter-spacing:.15pt\;"><span style="color:#3C4043\;"><span style="font-family:roboto\;"><span style="font-size:10.5pt\;">&ndash\;</span></span></span></span><span style="letter-spacing:.15pt\;"><span style="color:#3C4043\;"><span style="font-family:roboto\;"><span style="font-size:10.5pt\;"> 12:30pm (Central Time - Chicago)</span></span></span></span></div>\n												</td>\n											</tr>\n											<tr>\n												<td style="padding:0in 0in .25in 0in\;">\n												<table border="0" cellpadding="0" cellspacing="0" role="presentation">\n													<tbody>\n														<tr>\n															<td style="padding:0in 0in 3.0pt 0in\;word-break:break-word\;">\n															<h2 style="text-align: left\;"><span style="color:#3C4043\;"><span style="font-family:roboto\;"><span style="font-size:10.5pt\;">Location</span></span></span></h2>\n															</td>\n														</tr>\n													</tbody>\n												</table>\n\n												<div style="text-align: left\;"><span itemprop="name"><span style="letter-spacing:.15pt\;"><span style="font-family:roboto\;"><span style="font-size:10.5pt\;"><span itemprop="location" itemscope="" itemtype="http://schema.org/Place">Navarre Beach Area Chamber of Commerce\, 1804 Prado St suite a\, Navarre\, FL 32566\, USA</span></span></span></span></span><br />\n												<span style="letter-spacing:.15pt\;"><span style="color:#3C4043\;"><span style="font-family:roboto\;"><span style="font-size:10.5pt\;"><a href="https://www.google.com/maps/search/Navarre+Beach+Area+Chamber+of+Commerce\,+1804+Prado+St+suite+a\,+Navarre\,+FL+32566\,+USA?hl=en" itemprop="map" target="_blank"><strong><span style="color:#1A73E8\;">View map</span></strong></a></span></span></span></span></div>\n												</td>\n											</tr>\n											<tr>\n												<td style="padding:0in 0in .25in 0in\;">\n												<table border="0" cellpadding="0" cellspacing="0" role="presentation">\n													<tbody>\n														<tr>\n															<td style="padding:0in 0in 3.0pt 0in\;word-break:break-word\;">\n															<h2 style="text-align: left\;"><span style="color:#3C4043\;"><span style="font-family:roboto\;"><span style="font-size:10.5pt\;">Organizer</span></span></span></h2>\n															</td>\n														</tr>\n													</tbody>\n												</table>\n\n												<div style="text-align: left\;"><span style="letter-spacing:.15pt\;"><span style="color:#3C4042\;"><span style="font-family:roboto\;"><span style="font-size:10.5pt\;"><a href="mailto:kristenrhodesrealtor@gmail.com"><span style="color:#3C4043\;">Kristen Rhodes</span></a></span></span></span></span><br />\n												<span style="letter-spacing:.15pt\;"><span style="color:#707579\;"><span style="font-family:roboto\;"><span style="font-size:10.5pt\;"><a href="mailto:kristenrhodesrealtor@gmail.com"><span style="color:#70757A\;">kristenrhodesrealtor@gmail.com</span></a></span></span></span></span></div>\n												</td>\n											</tr>\n											<tr>\n												<td style="padding:0in 0in .25in 0in\;">\n												<table border="0" cellpadding="0" cellspacing="0" role="presentation">\n													<tbody>\n														<tr>\n															<td style="padding:0in 0in 3.0pt 0in\;word-break:break-word\;">\n															<h2 style="text-align: left\;"><span style="color:#3C4043\;"><span style="font-family:roboto\;"><span style="font-size:10.5pt\;">Guests</span></span></span></h2>\n															</td>\n														</tr>\n													</tbody>\n												</table>\n\n												<div style="text-align: left\;"><span style="letter-spacing:.15pt\;"><span style="color:#3C4043\;"><span style="font-family:roboto\;"><span style="font-size:10.5pt\;">(Guest list has been hidden at organizer&#39\;s request)</span></span></span></span></div>\n												</td>\n											</tr>\n											<tr>\n												<td style="padding: 0in\; text-align: left\;"><strong><span style="color:#3C4043\;"><span style="font-family:roboto\;"><span style="font-size:10.5pt\;"><span style="-webkit-font-smoothing:antialiased\;">Reply</span></span></span></span></strong><span style="font-family:roboto\;"><span style="font-size:10.5pt\;"> for <a href="mailto:chanda.ryan@navarrechamber.com"><span style="color:#70757A\;">chanda.ryan@navarrechamber.com</span></a></span></span></td>\n											</tr>\n											<tr>\n												<td style="padding:0in 0in 12.0pt 0in\;">\n												<table border="0" cellpadding="0" cellspacing="0" role="presentation">\n													<tbody>\n														<tr>\n															<td role="presentation" style="padding:6.0pt 9.0pt 0in 0in\;" vertical-align="middle">\n															<table border="1" cellpadding="0" cellspacing="0" role="presentation" style="border:solid #DADCE0 1.0pt\;">\n																<tbody>\n																	<tr>\n																		<td role="presentation" style="border:none\;padding:0in 0in 0in 0in\;">\n																		<table align="center" border="0" cellpadding="0" cellspacing="0" role="presentation">\n																			<tbody>\n																				<tr>\n																					<td nowrap="nowrap" style="padding: 4.5pt 9pt 4.5pt 12pt\; text-align: left\;"><span itemprop="potentialaction" itemscope="" itemtype="http://schema.org/RsvpAction"><span style="font-family:roboto\;"><span itemprop="handler" itemscope="" itemtype="http://schema.org/HttpActionHandler"><a href="https://calendar.google.com/calendar/event?action=RESPOND&amp\;eid=NjQybG40dTRlYnZkZnI1b2VqaTk3Z2ppdTMgY2hhbmRhLnJ5YW5AbmF2YXJyZWNoYW1iZXIuY29t&amp\;rst=1&amp\;tok=MzAja3Jpc3RlbnJob2Rlc3JlYWx0b3JAZ21haWwuY29tNjY3ZGFiY2VkYzk2Y2VjN2I4Mjk0MWE4ZDE3NmI5NzY1MTZhYmVjOA&amp\;ctz=America%2FChicago&amp\;hl=en&amp\;es=0" itemprop="url" target="_blank"><span style="text-decoration:none\;text-underline:none\;"><span style="font-size:10.5pt\;">Yes</span></span></a></span></span></span></td>\n																				</tr>\n																			</tbody>\n																		</table>\n\n																		<div style="clear: both\; text-align: left\;">&nbsp\;</div>\n																		</td>\n																		<td role="presentation" style="border-top:none\;border-left:solid #DADCE0 1.0pt\;border-bottom:none\;border-right:solid #DADCE0 1.0pt\;padding:0in 0in 0in 0in\;" vertical-align="middle">\n																		<table align="center" border="0" cellpadding="0" cellspacing="0" role="presentation">\n																			<tbody>\n																				<tr>\n																					<td nowrap="nowrap" role="presentation" style="padding: 4.5pt 9pt\; text-align: left\;"><span itemprop="potentialaction" itemscope="" itemtype="http://schema.org/RsvpAction"><span itemprop="potentialaction" itemscope="" itemtype="http://schema.org/RsvpAction"><span style="font-family:roboto\;"><span itemprop="handler" itemscope="" itemtype="http://schema.org/HttpActionHandler"><a href="https://calendar.google.com/calendar/event?action=RESPOND&amp\;eid=NjQybG40dTRlYnZkZnI1b2VqaTk3Z2ppdTMgY2hhbmRhLnJ5YW5AbmF2YXJyZWNoYW1iZXIuY29t&amp\;rst=2&amp\;tok=MzAja3Jpc3RlbnJob2Rlc3JlYWx0b3JAZ21haWwuY29tNjY3ZGFiY2VkYzk2Y2VjN2I4Mjk0MWE4ZDE3NmI5NzY1MTZhYmVjOA&amp\;ctz=America%2FChicago&amp\;hl=en&amp\;es=0" itemprop="url" target="_blank"><span style="text-decoration:none\;text-underline:none\;"><span style="font-size:10.5pt\;">No</span></span></a></span></span></span></span></td>\n																				</tr>\n																			</tbody>\n																		</table>\n\n																		<div style="clear: both\; text-align: left\;">&nbsp\;</div>\n																		</td>\n																		<td role="presentation" style="border:none\;padding:0in 0in 0in 0in\;" vertical-align="middle">\n																		<table align="center" border="0" cellpadding="0" cellspacing="0" role="presentation">\n																			<tbody>\n																				<tr>\n																					<td nowrap="nowrap" role="presentation" style="padding: 4.5pt 12pt 4.5pt 9pt\; text-align: left\;"><span itemprop="potentialaction" itemscope="" itemtype="http://schema.org/RsvpAction"><span itemprop="potentialaction" itemscope="" itemtype="http://schema.org/RsvpAction"><span style="font-family:roboto\;"><span itemprop="handler" itemscope="" itemtype="http://schema.org/HttpActionHandler"><a href="https://calendar.google.com/calendar/event?action=RESPOND&amp\;eid=NjQybG40dTRlYnZkZnI1b2VqaTk3Z2ppdTMgY2hhbmRhLnJ5YW5AbmF2YXJyZWNoYW1iZXIuY29t&amp\;rst=3&amp\;tok=MzAja3Jpc3RlbnJob2Rlc3JlYWx0b3JAZ21haWwuY29tNjY3ZGFiY2VkYzk2Y2VjN2I4Mjk0MWE4ZDE3NmI5NzY1MTZhYmVjOA&amp\;ctz=America%2FChicago&amp\;hl=en&amp\;es=0" itemprop="url" target="_blank"><span style="text-decoration:none\;text-underline:none\;"><span style="font-size:10.5pt\;">Maybe</span></span></a></span></span></span></span></td>\n																				</tr>\n																			</tbody>\n																		</table>\n\n																		<div style="clear: both\; text-align: left\;">&nbsp\;</div>\n																		</td>\n																	</tr>\n																</tbody>\n															</table>\n\n															<div style="text-align: left\;">&nbsp\;</div>\n\n															<table border="1" cellpadding="0" cellspacing="0" role="presentation" style="border:solid #DADCE0 1.0pt\;">\n																<tbody>\n																	<tr>\n																		<td nowrap="nowrap" role="presentation" style="border: none\; padding: 4.5pt 9pt 4.5pt 12pt\; text-align: left\;" vertical-align="middle"><span itemprop="potentialaction" itemscope="" itemtype="http://schema.org/RsvpAction"><span style="color:#5F6367\;"><span style="font-family:roboto\;"><a href="https://calendar.google.com/calendar/event?action=VIEW&amp\;eid=NjQybG40dTRlYnZkZnI1b2VqaTk3Z2ppdTMgY2hhbmRhLnJ5YW5AbmF2YXJyZWNoYW1iZXIuY29t&amp\;tok=MzAja3Jpc3RlbnJob2Rlc3JlYWx0b3JAZ21haWwuY29tNjY3ZGFiY2VkYzk2Y2VjN2I4Mjk0MWE4ZDE3NmI5NzY1MTZhYmVjOA&amp\;ctz=America%2FChicago&amp\;hl=en&amp\;es=0" target="_blank"><span style="text-decoration:none\;text-underline:none\;"><span style="font-size:10.5pt\;">More options</span></span></a></span></span></span></td>\n																	</tr>\n																</tbody>\n															</table>\n															</td>\n														</tr>\n													</tbody>\n												</table>\n												</td>\n											</tr>\n										</tbody>\n									</table>\n									</td>\n								</tr>\n							</tbody>\n						</table>\n						</td>\n					</tr>\n				</tbody>\n			</table>\n\n			<div style="clear:both\;">&nbsp\;</div>\n			</td>\n		</tr>\n	</tbody>\n</table>\n\n<div style="clear:both\;">&nbsp\;</div>\n
LOCATION:
UID:e.1694.30631
SEQUENCE:3
DTSTAMP:20260421T165540Z
URL:https://business.navarrechamber.com/events/details/military-veteran-affairs-committee-meeting-sponsored-by-springhill-suites-navarre-beach-30631
END:VEVENT

END:VCALENDAR
