BEGIN:VCALENDAR
VERSION:2.0
PRODID:-//ChamberMaster//Event Calendar 2.0//EN
METHOD:PUBLISH
X-PUBLISHED-TTL:P3D
REFRESH-INTERVAL:P3D
CALSCALE:GREGORIAN
BEGIN:VEVENT
DTSTART:20260507T170000Z
DTEND:20260507T174500Z
X-MICROSOFT-CDO-ALLDAYEVENT:FALSE
SUMMARY:National Day of Prayer
DESCRIPTION:75th National Day of Prayer
X-ALT-DESC;FMTTYPE=text/html:75th National Day of Prayer
LOCATION:Navarre Park 8512 Navarre Parkway Pavillion A
UID:e.1694.34753
SEQUENCE:3
DTSTAMP:20260421T100736Z
URL:https://business.navarrechamber.com/events/details/national-day-of-prayer-34753
END:VEVENT

END:VCALENDAR
