BEGIN:VCALENDAR
VERSION:2.0
PRODID:-//ChamberMaster//Event Calendar 2.0//EN
METHOD:PUBLISH
X-PUBLISHED-TTL:P3D
REFRESH-INTERVAL:P3D
CALSCALE:GREGORIAN
BEGIN:VEVENT
DTSTART:20250925T213000Z
DTEND:20250925T223000Z
X-MICROSOFT-CDO-ALLDAYEVENT:FALSE
SUMMARY:Navarre Chamber Building Maintenance & Improvement Committee Meeting
DESCRIPTION:
X-ALT-DESC;FMTTYPE=text/html:
LOCATION:
UID:e.1694.33302
SEQUENCE:3
DTSTAMP:20260421T084738Z
URL:https://business.navarrechamber.com/events/details/navarre-chamber-building-maintenance-improvement-committee-meeting-33302
END:VEVENT

END:VCALENDAR
