BEGIN:VCALENDAR
VERSION:2.0
PRODID:-//ChamberMaster//Event Calendar 2.0//EN
METHOD:PUBLISH
X-PUBLISHED-TTL:P3D
REFRESH-INTERVAL:P3D
CALSCALE:GREGORIAN
BEGIN:VEVENT
DTSTART:20270614T210000Z
DTEND:20270614T220000Z
X-MICROSOFT-CDO-ALLDAYEVENT:FALSE
SUMMARY:Navarre Chamber Foundation Meeting
DESCRIPTION:
X-ALT-DESC;FMTTYPE=text/html:
LOCATION:The Navarre Beach Area Chamber of Commerce Ira Mae Hewatt Bruce Conference Room
UID:e.1694.27246
SEQUENCE:3
DTSTAMP:20260419T222907Z
URL:https://business.navarrechamber.com/events/details/navarre-chamber-foundation-meeting-06-14-2027-27246
END:VEVENT

END:VCALENDAR
