BEGIN:VCALENDAR
VERSION:2.0
PRODID:-//ChamberMaster//Event Calendar 2.0//EN
METHOD:PUBLISH
X-PUBLISHED-TTL:P3D
REFRESH-INTERVAL:P3D
CALSCALE:GREGORIAN
BEGIN:VEVENT
DTSTART;VALUE=DATE:20241005
DTEND;VALUE=DATE:20241007
TRANSP:TRANSPARENT
X-MICROSOFT-CDO-ALLDAYEVENT:TRUE
SUMMARY:Navarre Fishing Rodeo
DESCRIPTION:Navarre Fishing Rodeo\n\nOct. 5 & 6\n\nTournament opens at 12:01 a.m. on Saturday and closes at 4 p.m. on Sunday\n\n1451 Navarre Beach Causeway\, Navarre Beach\, FL\n\nFish from the shore\, a boat or kayak\, or from the pier you just can't "fish" from the seafood market! Prizes will be awarded in all divisions. Weigh-in is on the beach at Juana's\, close to Santa Rosa County Navarre Beach Boat Ramp and parking. Scales close promptly at 4 p.m. on both days. Up to two Junior anglers age 12 and under can compete in the Junior Division for free with each paid rodeo admission. Proceeds from this event will benefit the Navarre Chamber Foundation which in turn benefits the Navarre Beach Marine Park. Visit the event website to find discounts from our local lodging partners for the week of the Navarre Fishing Rodeo. For more info\, visit navarrefishingrodeo.com\, contact Sandi Kemp at 850-939-1900 or email info@navarrefishingrodeo.com.
X-ALT-DESC;FMTTYPE=text/html:<p style="margin: 0px\; padding: 0px\; color: rgb(62\, 62\, 62)\; font-family: Arial\, Verdana\, Helvetica\, sans-serif\; font-size: 14px\;"><span style="border: 0px\; font-style: inherit\; font-variant: inherit\; font-weight: bold\; font-stretch: inherit\; font-size: 15px\; line-height: inherit\; font-optical-sizing: inherit\; font-kerning: inherit\; font-feature-settings: inherit\; font-variation-settings: inherit\; margin: 0px\; padding: 0px\; vertical-align: baseline\; color: rgb(0\, 0\, 0) !important\;">Navarre Fishing Rodeo</span></p>\n\n<p style="margin: 0px\; padding: 0px\; color: rgb(62\, 62\, 62)\; font-family: Arial\, Verdana\, Helvetica\, sans-serif\; font-size: 14px\;"><span style="border: 0px\; font-style: inherit\; font-variant: inherit\; font-weight: bold\; font-stretch: inherit\; font-size: 15px\; line-height: inherit\; font-optical-sizing: inherit\; font-kerning: inherit\; font-feature-settings: inherit\; font-variation-settings: inherit\; margin: 0px\; padding: 0px\; vertical-align: baseline\; color: rgb(0\, 0\, 0) !important\;">Oct. 5&nbsp\;&amp\; 6</span></p>\n\n<p style="margin: 0px\; padding: 0px\; color: rgb(62\, 62\, 62)\; font-family: Arial\, Verdana\, Helvetica\, sans-serif\; font-size: 14px\;"><span style="border: 0px\; font-style: inherit\; font-variant: inherit\; font-weight: bold\; font-stretch: inherit\; font-size: 15px\; line-height: inherit\; font-optical-sizing: inherit\; font-kerning: inherit\; font-feature-settings: inherit\; font-variation-settings: inherit\; margin: 0px\; padding: 0px\; vertical-align: baseline\; color: rgb(0\, 0\, 0) !important\;">Tournament opens at 12:01 a.m. on Saturday and closes at 4 p.m. on Sunday</span></p>\n\n<p style="margin: 0px\; padding: 0px\; color: rgb(62\, 62\, 62)\; font-family: Arial\, Verdana\, Helvetica\, sans-serif\; font-size: 14px\;"><span style="border: 0px\; font-style: inherit\; font-variant: inherit\; font-weight: bold\; font-stretch: inherit\; font-size: 15px\; line-height: inherit\; font-optical-sizing: inherit\; font-kerning: inherit\; font-feature-settings: inherit\; font-variation-settings: inherit\; margin: 0px\; padding: 0px\; vertical-align: baseline\; color: rgb(0\, 0\, 0) !important\;">1451 Navarre Beach Causeway\, Navarre Beach\, FL</span></p>\n\n<p style="margin: 0px\; padding: 0px\; color: rgb(62\, 62\, 62)\; font-family: Arial\, Verdana\, Helvetica\, sans-serif\; font-size: 14px\;"><span style="border: 0px\; font-style: inherit\; font-variant: inherit\; font-weight: inherit\; font-stretch: inherit\; font-size: 15px\; line-height: inherit\; font-optical-sizing: inherit\; font-kerning: inherit\; font-feature-settings: inherit\; font-variation-settings: inherit\; margin: 0px\; padding: 0px\; vertical-align: baseline\; color: rgb(0\, 0\, 0) !important\;">Fish from the shore\, a boat or kayak\, or from the pier&ndash\;you just can&#39\;t &ldquo\;fish&rdquo\; from the seafood market! Prizes will be awarded in all divisions.&nbsp\;Weigh-in is on the beach at Juana&#39\;s\, close to Santa Rosa County Navarre Beach Boat Ramp and parking.&nbsp\;Scales close promptly at 4 p.m. on both days. Up to two Junior anglers age 12 and under can compete in the Junior Division for free with each paid rodeo admission.&nbsp\;Proceeds from this event will benefit the Navarre Chamber Foundation which in turn benefits the Navarre Beach Marine Park. Visit the event website to find discounts from our local lodging partners for the week of the Navarre Fishing Rodeo. For more info\, visit&nbsp\;</span><a data-auth="NotApplicable" data-linkindex="20" href="https://r20.rs6.net/tn.jsp?f=001NQfvJUf1CsrbSI29uwX2Gi3MULtLXoggpz-CcBt1jM1OuqPwVgl-uCTNbrcEiJY5EWxNNWOoe2pvpBRGXarw-mNx4cBAQmftN7xuu-sCIBl6MuYu7GQeLQHJlFzGuQQxx4QRRE74yyjvpQgml3CRdEqiUXoSZi6jSbRiijOCyog_hkV78F4Soy29a057hxjAE2E4PqISZhok12R9zFseAaggkn-HwKIu2aTJYD-NPd_0uBucvXPfl1Va-uvzY6Q0LHHkC3wakNr7StpONWGWgrgKw4jYJxdc4eKBQ9GkzGsLZbJng2hrFHJidPLXodo40Eudgo8b7l6vvLWCCWiNhWrWppldbKAT-FOclTaaXwWBgB_657Frt3hJE9lj8BaR_auiPXw5DoPxgzoEq2tWVQ4UZwL4_fkJHg1x5mqqcYOfgBpREcYvQDbisGTF7ms8BSZ0rqouINmb28pmKlPNBakCG9Nu6-JwOubca9X1XXPS4aFi-EciYLNC5ad6C5Nn1N4tRcEH5vrXjYPu7_pFZbNmdgCSi9JgS2Hn9yRmzW4fP2c4kKZ4orIykeLYNxknfBH8KnTHh1pKyjPcWPr7XzrVJ0yHlQTdSlA25pIyTdz4KMc3MlGyulebRPZOEI4nKiBegi-TRxNpG7TC-dFd4pyW4Fq-ZTeMcZT9M1FOe58MbyJVu3SxAcVZTWjYF1WGWNji5FswA60=&amp\;c=SbiYqg9TzFhEAiw8WERnxlGRrvdH-jV7v2R7_HAaLzK8mx7rW-H_Vw==&amp\;ch=_nQN8mYNs6sFyFZanYMoQSFSjBiZ7gcV1AdsNSMLS49HEXh_daXQig==" rel="noopener noreferrer" style="border: 0px\; font-style: inherit\; font-variant: inherit\; font-weight: bold\; font-stretch: inherit\; font-size: 15px\; line-height: inherit\; font-optical-sizing: inherit\; font-kerning: inherit\; font-feature-settings: inherit\; font-variation-settings: inherit\; margin: 0px\; padding: 0px\; vertical-align: baseline\; color: rgb(49\, 95\, 195) !important\;" target="_blank">navarrefishingrodeo.com</a><span style="border: 0px\; font-style: inherit\; font-variant: inherit\; font-weight: inherit\; font-stretch: inherit\; font-size: 15px\; line-height: inherit\; font-optical-sizing: inherit\; font-kerning: inherit\; font-feature-settings: inherit\; font-variation-settings: inherit\; margin: 0px\; padding: 0px\; vertical-align: baseline\; color: rgb(0\, 0\, 0) !important\;">\, contact Sandi Kemp at&nbsp\;850-939-1900 or email&nbsp\;</span><a data-linkindex="21" href="mailto:info@navarrefishingrodeo.com" style="border: 0px\; font-style: inherit\; font-variant: inherit\; font-weight: bold\; font-stretch: inherit\; font-size: 15px\; line-height: inherit\; font-optical-sizing: inherit\; font-kerning: inherit\; font-feature-settings: inherit\; font-variation-settings: inherit\; margin: 0px\; padding: 0px\; vertical-align: baseline\; color: rgb(49\, 95\, 195) !important\;">info@navarrefishingrodeo.com</a><span style="border: 0px\; font-style: inherit\; font-variant: inherit\; font-weight: inherit\; font-stretch: inherit\; font-size: 15px\; line-height: inherit\; font-optical-sizing: inherit\; font-kerning: inherit\; font-feature-settings: inherit\; font-variation-settings: inherit\; margin: 0px\; padding: 0px\; vertical-align: baseline\; color: rgb(0\, 0\, 0) !important\;">.&nbsp\;&nbsp\;</span></p>\n
LOCATION:
UID:e.1694.29002
SEQUENCE:3
DTSTAMP:20260419T182229Z
URL:https://business.navarrechamber.com/events/details/navarre-fishing-rodeo-29002
END:VEVENT

END:VCALENDAR
