BEGIN:VCALENDAR
VERSION:2.0
PRODID:-//ChamberMaster//Event Calendar 2.0//EN
METHOD:PUBLISH
X-PUBLISHED-TTL:P3D
REFRESH-INTERVAL:P3D
CALSCALE:GREGORIAN
BEGIN:VEVENT
DTSTART:20150830T000000Z
DTEND:20150830T040000Z
X-MICROSOFT-CDO-ALLDAYEVENT:FALSE
SUMMARY:Navarre Krewe of Jesters Pirate Bash
DESCRIPTION:Navarre Krewe of Jesters Pirate Bash\n\n2nd Annual Get Your Booty On!\n\n\n\n- Costume Contest\n\n- Raffle\n\n- Games\n\n- Music\n\n- Prizes\n\n- Debauchery\n\n\n\nCome if you Dare . . .\n\n\n\nCLICK HERE for a copy of the event flyer
X-ALT-DESC;FMTTYPE=text/html:Navarre Krewe of Jesters Pirate Bash<br />\n2nd Annual Get Your Booty On!<br />\n<br />\n- Costume Contest<br />\n- Raffle<br />\n- Games<br />\n- Music<br />\n- Prizes<br />\n- Debauchery<br />\n<br />\nCome if you Dare . . .<br />\n<br />\n<a href="http://cloud.chambermaster.com/userfiles/UserFiles/chambers/1694/File/PirateBash2.pdf">CLICK HERE</a> for a copy of the event flyer
LOCATION:Navarre Conference Center
UID:e.1694.4524
SEQUENCE:3
DTSTAMP:20260420T113425Z
URL:https://business.navarrechamber.com/events/details/navarre-krewe-of-jesters-pirate-bash-4524
END:VEVENT

END:VCALENDAR
