BEGIN:VCALENDAR
VERSION:2.0
PRODID:-//ChamberMaster//Event Calendar 2.0//EN
METHOD:PUBLISH
X-PUBLISHED-TTL:P3D
REFRESH-INTERVAL:P3D
CALSCALE:GREGORIAN
BEGIN:VEVENT
DTSTART:20261117T233000Z
DTEND:20261118T010000Z
X-MICROSOFT-CDO-ALLDAYEVENT:FALSE
SUMMARY:Navarre Young Professionals
DESCRIPTION:Come meet a group of like minded professionals who are focused on connection\, growth\, and community. While our group is a great place to expand your network and build meaningful business relationships\, we also know how to have a lot of fun along the way.
X-ALT-DESC;FMTTYPE=text/html:Come meet a group of like minded professionals who are focused on connection\, growth\, and community. While our group is a great place to expand your network and build meaningful business relationships\, we also know how to have a lot of fun along the way.&nbsp\;<br />\n&nbsp\;
LOCATION:
UID:e.1694.34522
SEQUENCE:3
DTSTAMP:20260421T125517Z
URL:https://business.navarrechamber.com/events/details/navarre-young-professionals-11-24-2026-34522
END:VEVENT

END:VCALENDAR
