BEGIN:VCALENDAR
VERSION:2.0
PRODID:-//ChamberMaster//Event Calendar 2.0//EN
METHOD:PUBLISH
X-PUBLISHED-TTL:P3D
REFRESH-INTERVAL:P3D
CALSCALE:GREGORIAN
BEGIN:VEVENT
DTSTART:20261201T233000Z
DTEND:20261202T020000Z
X-MICROSOFT-CDO-ALLDAYEVENT:FALSE
SUMMARY:Navarre Young Professionals Annual Toy Drive
DESCRIPTION:More Info Announced Soon\n\n\n\nDate Subject to Change
X-ALT-DESC;FMTTYPE=text/html:More Info Announced Soon<br />\n<br />\nDate Subject to Change
LOCATION:
UID:e.1694.34762
SEQUENCE:3
DTSTAMP:20260421T111222Z
URL:https://business.navarrechamber.com/events/details/navarre-young-professionals-annual-toy-drive-34762
END:VEVENT

END:VCALENDAR
