BEGIN:VCALENDAR
VERSION:2.0
PRODID:-//ChamberMaster//Event Calendar 2.0//EN
METHOD:PUBLISH
X-PUBLISHED-TTL:P3D
REFRESH-INTERVAL:P3D
CALSCALE:GREGORIAN
BEGIN:VEVENT
DTSTART:20241022T210000Z
DTEND:20241022T230000Z
X-MICROSOFT-CDO-ALLDAYEVENT:FALSE
SUMMARY:Neway Pools’ First Exclusive Swimming Pool Giveaway
DESCRIPTION:Realtors\, this is your chance to shine!\n\n\n\nWe are excited to invite you to NeWay Pools' First Exclusive Swimming Pool Giveaway!\n\n\n\nImagine being able to offer your clients a high-quality swimming pool to complete their dream home. \n\nNeWay Pools is making this a reality\, and YOU could be the next to close a deal that exceeds expectations.\n\n\n\n  Prize: A brand-new IGUI swimming pool for one of your clients! (Installation is not included.)\n\n  Giveaway Date: 10-22-24 | 4 pm - 6 pm (Outdoor Happy Hour)\n\n  Location: 1614 Beechwood | Gulf Breeze\n\n\n\n How to Participate?\n\n\n	Follow NeWay Pool's Social Media Facebook Page | Instagram\n	"TAG" 3 people\n	Be present at the event on Tuesday\, Oct 22nd\n\n\n\nIn addition to the giveaway\, we'll have networking\, drinks\, and exclusive tips\n\nto maximize your sales with NeWay Pools.\n\n\n\nDon't miss this unique opportunity to impress your clients and boost your sales!  \n\n\n\n  Sign up now and be part of this innovative experience! \n\n\n\n#NeWayPools #Realtors #PoolGiveaway #Opportunity #SuccessfulNetworking
X-ALT-DESC;FMTTYPE=text/html:&#128166\;&#127965\;&#65039\;Realtors\, this is your chance to shine!<br />\n<br />\nWe are excited to invite you to <strong><a href="https://business.navarrechamber.com/list/member/neway-pools-13533"><span style="color:#0000FF\;">NeWay Pools</span></a></strong>&rsquo\; First Exclusive Swimming Pool Giveaway!<br />\n<br />\nImagine being able to offer your clients a high-quality swimming pool to complete their dream home.&nbsp\;<br />\nNeWay Pools is making this a reality\, and YOU could be the next to close a deal that exceeds expectations.<br />\n<br />\n&#127873\; Prize: A brand-new IGUI swimming pool for one of your clients! <em>(Installation is not included.)</em><br />\n&#128197\; Giveaway Date: 10-22-24 | 4 pm - 6 pm (Outdoor Happy Hour)<br />\n&#128205\; Location: 1614 Beechwood | Gulf Breeze<br />\n<br />\n&nbsp\;<span style="font-size:16px\;"><strong>How to Participate?</strong></span>\n\n<ol>\n	<li>Follow NeWay Pool&rsquo\;s Social Media&nbsp\;<strong><span style="color:#0000FF\;"><a href="https://www.facebook.com/share/BRAdPjwRZKuhGXFU/?mibextid=LQQJ4d">Facebook Page</a>&nbsp\;| <a href="https://www.instagram.com/newaypools?igsh=MTlneDA4OG84NDc0YQ==">Instagram</a></span></strong></li>\n	<li>&ldquo\;TAG&rdquo\; 3 people</li>\n	<li>Be present at the event on Tuesday\, Oct 22nd</li>\n</ol>\n<br />\nIn addition to the giveaway\, we&rsquo\;ll have networking\, drinks\, and exclusive tips<br />\nto maximize your sales with NeWay Pools.<br />\n<br />\nDon&rsquo\;t miss this unique opportunity to impress your clients and boost your sales! &#128640\;<br />\n<br />\n&#128073\; Sign up now and be part of this innovative experience!&nbsp\;<br />\n<br />\n#NeWayPools #Realtors #PoolGiveaway #Opportunity #SuccessfulNetworking
LOCATION:
UID:e.1694.29979
SEQUENCE:3
DTSTAMP:20260419T182319Z
URL:https://business.navarrechamber.com/events/details/neway-pools-first-exclusive-swimming-pool-giveaway-29979
END:VEVENT

END:VCALENDAR
