BEGIN:VCALENDAR
VERSION:2.0
PRODID:-//ChamberMaster//Event Calendar 2.0//EN
METHOD:PUBLISH
X-PUBLISHED-TTL:P3D
REFRESH-INTERVAL:P3D
CALSCALE:GREGORIAN
BEGIN:VEVENT
DTSTART:20250727T180000Z
DTEND:20250727T200000Z
X-MICROSOFT-CDO-ALLDAYEVENT:FALSE
SUMMARY:OPEN HOUSE: East Navarre (5 BR / 3 BA)
DESCRIPTION:OPEN HOUSE  \n\n\n\n  July 27th from 1pm-3pm\n\n\n\nUnder Construction!!\n\n\n\nAll brick 5 Bedroom\, 3 full Baths\, 2236 square foot home in East Navarre.\n\n\n\nNo HOA.\n\n\n\nThis split floor plan home features a spacious great room\, dining area and a large kitchen with granite counter tops\, soft close cabinet drawers\, tile backsplash\, smooth top stove\, built-in microwave and dishwasher.
X-ALT-DESC;FMTTYPE=text/html:&#128165\; OPEN HOUSE &#128165\;<br />\n<br />\n&#128198\; July 27th from 1pm-3pm<br />\n<br />\nUnder Construction!!<br />\n<br />\nAll brick 5 Bedroom\, 3 full Baths\, 2236 square foot home in East Navarre.<br />\n<br />\nNo HOA.<br />\n<br />\nThis split floor plan home features a spacious great room\, dining area and a large kitchen with granite counter tops\, soft close cabinet drawers\, tile backsplash\, smooth top stove\, built-in microwave and dishwasher.
LOCATION:
UID:e.1694.33250
SEQUENCE:3
DTSTAMP:20260421T174952Z
URL:https://business.navarrechamber.com/events/details/open-house-east-navarre-5-br-3-ba-33250
END:VEVENT

END:VCALENDAR
