BEGIN:VCALENDAR
VERSION:2.0
PRODID:-//ChamberMaster//Event Calendar 2.0//EN
METHOD:PUBLISH
X-PUBLISHED-TTL:P3D
REFRESH-INTERVAL:P3D
CALSCALE:GREGORIAN
BEGIN:VEVENT
DTSTART:20250610T223000Z
DTEND:20250611T000000Z
X-MICROSOFT-CDO-ALLDAYEVENT:FALSE
SUMMARY:Pensacola Beach Chamber - Business After Hours
DESCRIPTION:We know what it means to do business on the beach: work hard and when the day is done\, RELAX HARD! Come enjoy a little 2025 Happy Hour with your fellow beach businesses LOCATION: Pensacola Beach Resort. Bring your business cards to this casual networking opportunity. Door prizes welcome! Be sure to bring some extra cash for a 50/50 Raffle!
X-ALT-DESC;FMTTYPE=text/html:We know what it means to do business on the beach: work hard and when the day is done\, RELAX HARD! Come enjoy a little 2025 Happy Hour with your fellow beach businesses LOCATION: Pensacola Beach Resort. Bring your business cards to this casual networking opportunity. Door prizes welcome! Be sure to bring some extra cash for a 50/50 Raffle!
LOCATION:Pensacola Beach Resort
UID:e.1694.31423
SEQUENCE:3
DTSTAMP:20260421T165447Z
URL:https://business.navarrechamber.com/events/details/pensacola-beach-chamber-business-after-hours-31423
END:VEVENT

END:VCALENDAR
