BEGIN:VCALENDAR
VERSION:2.0
PRODID:-//ChamberMaster//Event Calendar 2.0//EN
METHOD:PUBLISH
X-PUBLISHED-TTL:P3D
REFRESH-INTERVAL:P3D
CALSCALE:GREGORIAN
BEGIN:VEVENT
DTSTART:20271106T140000Z
DTEND:20271106T190000Z
X-MICROSOFT-CDO-ALLDAYEVENT:FALSE
SUMMARY:Pik-itz Open Air Market
DESCRIPTION:Come visit our Outdoor Market right here in Navarre.   We have over 30 vendors selling local art\, crafts\, baked goods\, dairy products\, honey and plenty of fun surprises. \n\n\n\nMarkets are held every Saturday from 9 am to 2 pm\n\n\n\nIf you are interested in selling homemade/handmade items\, contact the store for more information.
X-ALT-DESC;FMTTYPE=text/html:Come visit our Outdoor Market right here in Navarre.&nbsp\; &nbsp\;We have over 30 vendors selling local art\, crafts\, baked goods\, dairy products\, honey and plenty of fun surprises.&nbsp\;<br />\n<br />\nMarkets are held every Saturday from 9 am to 2 pm<br />\n<br />\nIf you are interested in selling homemade/handmade items\, contact the store for more information.&nbsp\;
LOCATION:
UID:e.1694.30711
SEQUENCE:3
DTSTAMP:20260420T062410Z
URL:https://business.navarrechamber.com/events/details/pik-itz-open-air-market-11-06-2027-30711
END:VEVENT

END:VCALENDAR
