BEGIN:VCALENDAR
VERSION:2.0
PRODID:-//ChamberMaster//Event Calendar 2.0//EN
METHOD:PUBLISH
X-PUBLISHED-TTL:P3D
REFRESH-INTERVAL:P3D
CALSCALE:GREGORIAN
BEGIN:VEVENT
DTSTART;VALUE=DATE:20260501
DTEND;VALUE=DATE:20260502
TRANSP:TRANSPARENT
X-MICROSOFT-CDO-ALLDAYEVENT:TRUE
SUMMARY:Ribbon Cutting and Open House for Step One Cadillac Fort Walton Beach
DESCRIPTION:Ribbon Cutting & Grand Opening - Step One Cadillac Fort Walton Beach\n			\n		\n	\n\n\n\n	\n		\n			\n			Step into an evening of timeless elegance as we celebrate the grand opening of our Cadillac showroom.\n\n			\n\n			Thursday\, May 21st\n\n			5:30 PM   9:00 PM\n\n			\n\n			In your best Cocktail Attire\, step into our brand new showroom where luxury meets nightlife.\n\n			\n\n			  Handcrafted\, themed Cadillac cocktails\n\n			  DJ to play your favorite songs to dance to\n\n			  Elevated passed hors d'oeuvres\n\n			  Photo booth moments you won't forget\n\n			\n\n			Dress to impress and get ready for a night that feels luxurious!\n\n			\n\n			CLICK HERE TO RSVP NOW
X-ALT-DESC;FMTTYPE=text/html:<table border="0" cellpadding="0" cellspacing="0" class="text text--heading text--padding-vertical" style="table-layout: fixed\; color: rgb(0\, 0\, 0)\; background-color: rgb(255\, 255\, 255)\;" width="100%">\n	<tbody>\n		<tr>\n			<td align="left" class="text_content-cell content-padding-horizontal" style="padding: 10px 40px\; font-family: &quot\;Open Sans&quot\;\, sans-serif\; color: rgb(51\, 51\, 51)\; font-size: 30px\; line-height: 1.5\; display: block\; overflow-wrap: break-word\; font-weight: bold\; -webkit-font-smoothing: antialiased\;" valign="top">\n			<h1 style="margin: 0px\; font-size: 30px\;">Ribbon Cutting &amp\; Grand Opening - Step One Cadillac Fort Walton Beach</h1>\n			</td>\n		</tr>\n	</tbody>\n</table>\n\n<table border="0" cellpadding="0" cellspacing="0" class="text text--article text--padding-vertical" style="table-layout: fixed\; color: rgb(0\, 0\, 0)\; background-color: rgb(255\, 255\, 255)\;" width="100%">\n	<tbody>\n		<tr>\n			<td align="left" class="text_content-cell content-padding-horizontal" style="padding: 10px 40px\; font-family: &quot\;Open Sans&quot\;\, sans-serif\; color: rgb(118\, 118\, 118)\; font-size: 15px\; line-height: 1.5\; display: block\; overflow-wrap: break-word\; -webkit-font-smoothing: antialiased\;" valign="top">\n			<p style="margin: 0px\; padding: 0px\;">Step into an evening of timeless elegance as we celebrate the grand opening of our Cadillac showroom.<br />\n			<br />\n			Thursday\, May 21st<br />\n			5:30 PM &ndash\; 9:00 PM<br />\n			<br />\n			In your best Cocktail Attire\, step into our brand new showroom where luxury meets nightlife.<br />\n			<br />\n			&#10024\; Handcrafted\, themed Cadillac cocktails<br />\n			&#127926\; DJ to play your favorite songs to dance to<br />\n			&#127860\; Elevated passed hors d&rsquo\;oeuvres<br />\n			&#128248\; Photo booth moments you won&rsquo\;t forget<br />\n			<br />\n			Dress to impress and get ready for a night that feels luxurious!<br />\n			<br />\n			<u><strong><a href="https://lp.constantcontactpages.com/ev/reg/nt396hd/lp/2a66f782-803a-46b2-970d-92d462dc215f">CLICK HERE TO RSVP NOW</a></strong></u></p>\n			</td>\n		</tr>\n	</tbody>\n</table>\n
LOCATION:
UID:e.1694.34760
SEQUENCE:3
DTSTAMP:20260421T111221Z
URL:https://business.navarrechamber.com/events/details/ribbon-cutting-and-open-house-for-step-one-cadillac-fort-walton-beach-34760
END:VEVENT

END:VCALENDAR
