BEGIN:VCALENDAR
VERSION:2.0
PRODID:-//ChamberMaster//Event Calendar 2.0//EN
METHOD:PUBLISH
X-PUBLISHED-TTL:P3D
REFRESH-INTERVAL:P3D
CALSCALE:GREGORIAN
BEGIN:VEVENT
DTSTART:20150729T140000Z
DTEND:20150729T140000Z
X-MICROSOFT-CDO-ALLDAYEVENT:FALSE
SUMMARY:Ribbon Cutting for Culver's of Navarre
DESCRIPTION:We are looking forward to helping Culver's of Navarre celebrate their Navarre Chamber Ribbon Cutting on Wednesday\, July 29th at 9 am.
X-ALT-DESC;FMTTYPE=text/html:We are looking forward to helping Culver&#39\;s of Navarre celebrate their Navarre Chamber Ribbon Cutting on Wednesday\, July 29th at 9 am.
LOCATION:Culver's of Navarre 8792 Navarre Parkway
UID:e.1694.4522
SEQUENCE:3
DTSTAMP:20260422T083745Z
URL:https://business.navarrechamber.com/events/details/ribbon-cutting-for-culver-s-of-navarre-4522
END:VEVENT

END:VCALENDAR
