BEGIN:VCALENDAR
VERSION:2.0
PRODID:-//ChamberMaster//Event Calendar 2.0//EN
METHOD:PUBLISH
X-PUBLISHED-TTL:P3D
REFRESH-INTERVAL:P3D
CALSCALE:GREGORIAN
BEGIN:VEVENT
DTSTART:20241120T191500Z
DTEND:20241120T200000Z
X-MICROSOFT-CDO-ALLDAYEVENT:FALSE
SUMMARY:Ribbon Cutting for Grand Opening of Iron Lady Fitness
DESCRIPTION:We are excited to invite you to a momentous occasion on Wednesday\, November 20th at 1:15 pm\, as we celebration the Grand Opening of Iron Lady Fitness with a Ribbon Cutting Ceremony to celebrate the Grand Opening of their location at 7287 Navarre Parkway.\n\n\n\nThis event marks a significant milestone for our community\, as we welcome Owner Michelle Dodson\, Manager Allison Doel and the rest of the Iron Lady Fitness Team to the Navarre Business Community.\n\nJoin us in sharing our excitement and support.\n\n\n\nBe sure to connect with fellow Chamber members\, residents\, and visitors\, and engage with the Chamber Navigators and our Chamber President/CEO\, Chanda Ryan\, as we collectively cut the ribbon in honor of this new venture.\n\n\n\nThis event is not only a celebration but also a unique networking opportunity that allows us to strengthen our community ties while recognizing the success and growth of local businesses.\n\n\n\nBest of all\, this event is free and open to everyone!\n\n\n\nWe encourage you to mark your calendars and join us for this inspiring celebration.\n\nTogether\, let's foster collaboration and success in our vibrant Navarre community!
X-ALT-DESC;FMTTYPE=text/html:We are excited to invite you to a momentous occasion on Wednesday\, November 20th at 1:15 pm\, as we celebration the Grand Opening of <strong><a href="https://business.navarrechamber.com/list/member/iron-lady-fitness-navarre-13522">Iron Lady Fitness</a></strong> with a Ribbon Cutting Ceremony to celebrate the Grand Opening of their location at 7287 Navarre Parkway.<br />\n<br />\nThis event marks a significant milestone for our community\, as we welcome Owner Michelle Dodson\, Manager Allison Doel and the rest of the Iron Lady Fitness Team to the Navarre Business Community.<br />\nJoin us in sharing our excitement and support.<br />\n<br />\nBe sure to connect with fellow Chamber members\, residents\, and visitors\, and engage with the Chamber Navigators and our Chamber President/CEO\, Chanda Ryan\, as we collectively cut the ribbon in honor of this new venture.<br />\n<br />\nThis event is not only a celebration but also a unique networking opportunity that allows us to strengthen our community ties while recognizing the success and growth of local businesses.<br />\n<br />\nBest of all\, this event is free and open to everyone!<br />\n<br />\nWe encourage you to mark your calendars and join us for this inspiring celebration.<br />\nTogether\, let&rsquo\;s foster collaboration and success in our vibrant Navarre community!
LOCATION:
UID:e.1694.30035
SEQUENCE:3
DTSTAMP:20260419T195007Z
URL:https://business.navarrechamber.com/events/details/ribbon-cutting-for-grand-opening-of-iron-lady-fitness-30035
END:VEVENT

END:VCALENDAR
