BEGIN:VCALENDAR
VERSION:2.0
PRODID:-//ChamberMaster//Event Calendar 2.0//EN
METHOD:PUBLISH
X-PUBLISHED-TTL:P3D
REFRESH-INTERVAL:P3D
CALSCALE:GREGORIAN
BEGIN:VEVENT
DTSTART:20241005T123000Z
DTEND:20241005T150000Z
X-MICROSOFT-CDO-ALLDAYEVENT:FALSE
SUMMARY:Rotary Pancake Breakfast Fundraiser for Navarre Youth
DESCRIPTION:The 2024 Rotary Pancake Breakfast is set for Saturday\, Oct 5th 7:30 - 10 AM at Samurai Japanese Steakhouse on Hwy 98.  Join us for all you can eat pancakes\, sausage\, juice and coffee for $5.  Ages 6 & under are FREE.\n\n\n\nTickets are available at the door and presale on our website and from JROTC Cadets.\n\n\n\nSponsorships are available and you can purchase tickets online.  CLICK HERE to learn more.\n\n \n\nThe money raised at our annual pancake breakfast funds our NHS Scholarship Program as well as supports many other youth programs in Navarre.  Since last year's breakfast\, our club has awarded almost $30\,000 to Navarre charities and youth organizations including $8\,000 in scholarships\, $2\,000 to the NHS Homeless Student Program\, $4\,000 to the Navarre Beach Marine Science Station for their Autism OdysSea event\, $500 to Manna Food Bank and a day of service packaging over 75\,000 meals for local families\, $1\,000 to NHS JROTC\, $1\,000 for the Student Leadership Development Program for Navarre 8th Graders\, $1\,000 for Rotary Youth Camps\, $1\,600 for 4 scholarships for Rotary Youth Leadership Awards for local 10th graders\, $1500 for our life saving rescue tube program on Navarre Beach and $25\,000 towards our Harmony Park Project.
X-ALT-DESC;FMTTYPE=text/html:<p>The 2024 Rotary Pancake Breakfast is set for Saturday\, Oct 5th 7:30 - 10 AM at Samurai Japanese Steakhouse on Hwy 98.&nbsp\; Join us for all you can eat pancakes\, sausage\, juice and coffee for $5.&nbsp\; Ages 6 &amp\; under are FREE.<br />\n<br />\nTickets are available at the door and presale on our website and from JROTC Cadets.<br />\n<br />\nSponsorships are available and you can purchase tickets online.&nbsp\; <a href="https://navarrerotary.org/2024/08/pancake-breakfast-fundraiser-sponsorship-opportunities/" target="_blank"><span style="color:#FF0000">CLICK HERE</span></a> to learn more.</p>\n\n<p>&nbsp\;</p>\n\n<p>The money raised at our annual pancake breakfast funds our NHS Scholarship Program as well as supports many other youth programs in Navarre.&nbsp\; Since last year&rsquo\;s breakfast\, our club has awarded almost $30\,000 to Navarre charities and youth organizations including $8\,000 in scholarships\, $2\,000 to the NHS Homeless Student Program\, $4\,000 to the Navarre Beach Marine Science Station for their Autism OdysSea event\, $500 to Manna Food Bank and a day of service packaging over 75\,000 meals for local families\, $1\,000 to NHS JROTC\, $1\,000 for the Student Leadership Development Program for Navarre 8<span style="font-family:inherit\; font-size:12px">th</span>&nbsp\;Graders\, $1\,000 for Rotary Youth Camps\, $1\,600 for 4 scholarships for Rotary Youth Leadership Awards for local 10<span style="font-family:inherit\; font-size:12px">th</span>&nbsp\;graders\, $1500 for our life saving rescue tube program on Navarre Beach and $25\,000 towards our Harmony Park Project.</p>\n
LOCATION:Samurai Japanese Steakhouse & Sushi Bar 8780 Navarre Parkway Navarre FL 32566
UID:e.1694.29946
SEQUENCE:3
DTSTAMP:20260419T182318Z
URL:https://business.navarrechamber.com/events/details/rotary-pancake-breakfast-fundraiser-for-navarre-youth-29946
END:VEVENT

END:VCALENDAR
