BEGIN:VCALENDAR
VERSION:2.0
PRODID:-//ChamberMaster//Event Calendar 2.0//EN
METHOD:PUBLISH
X-PUBLISHED-TTL:P3D
REFRESH-INTERVAL:P3D
CALSCALE:GREGORIAN
BEGIN:VEVENT
DTSTART:20241019T160000Z
DTEND:20241019T190000Z
X-MICROSOFT-CDO-ALLDAYEVENT:FALSE
SUMMARY:Smokin' in the Square
DESCRIPTION:A day of Food\, family and Fun.\n\nSample tons of unique recipes made on the grill. Opportunity to vote for your favorite team. Specialty foods and drinks. Music entertainment. Activities for kids.
X-ALT-DESC;FMTTYPE=text/html:A day of Food\, family and Fun.<br />\nSample tons of unique recipes made on the grill. Opportunity to vote for your favorite team. Specialty foods and drinks. Music entertainment. Activities for kids.
LOCATION:St. Sylvester Catholic Church 6464 Gulf Breeze Parkway
UID:e.1694.29965
SEQUENCE:3
DTSTAMP:20260419T182114Z
URL:https://business.navarrechamber.com/events/details/smokin-in-the-square-29965
END:VEVENT

END:VCALENDAR
