BEGIN:VCALENDAR
VERSION:2.0
PRODID:-//ChamberMaster//Event Calendar 2.0//EN
METHOD:PUBLISH
X-PUBLISHED-TTL:P3D
REFRESH-INTERVAL:P3D
CALSCALE:GREGORIAN
BEGIN:VEVENT
DTSTART:20150913T190000Z
DTEND:20150913T210000Z
X-MICROSOFT-CDO-ALLDAYEVENT:FALSE
SUMMARY:Tea Talk
DESCRIPTION:Emerald Coast Science Center welcomes Baron's Tea House of Crestview to discuss "The Chemistry of Brewing the Perfect Cup of Tea."\n\n\n\nPlease join us in learning all about the many different types of tea\, what temperature to brew and how long to steep. We will also be going into detail about what happens when the tea is brewing and its chemical components.
X-ALT-DESC;FMTTYPE=text/html:Emerald Coast Science Center welcomes Baron&#39\;s Tea House of Crestview to discuss &quot\;The Chemistry of Brewing the Perfect Cup of Tea.&quot\;<br />\n<br />\nPlease join us in learning all about the many different types of tea\, what temperature to brew and how long to steep. We will also be going into detail about what happens when the tea is brewing and its chemical components.
LOCATION:Emerald Coast Science Center 31 Memorial Parkway\, SW Fort Walton Beach\, FL 32548
UID:e.1694.5851
SEQUENCE:3
DTSTAMP:20260420T082850Z
URL:https://business.navarrechamber.com/events/details/tea-talk-5851
END:VEVENT

END:VCALENDAR
