BEGIN:VCALENDAR
VERSION:2.0
PRODID:-//ChamberMaster//Event Calendar 2.0//EN
METHOD:PUBLISH
X-PUBLISHED-TTL:P3D
REFRESH-INTERVAL:P3D
CALSCALE:GREGORIAN
BEGIN:VEVENT
DTSTART:20260514T233000Z
DTEND:20260515T020000Z
X-MICROSOFT-CDO-ALLDAYEVENT:FALSE
SUMMARY:The Navarre Whiskey Society
DESCRIPTION:The Navarre Whiskey Society invites you to an evening of tasting and camaraderie on May 14th\, from 6:30PM to 9:00PM at the Emera Caf  Coffee Exchange (hotel side)\, located across from the Beach House Social inside Spring Hill Suites\, 8375 Gulf Blvd\, Navarre Beach\, FL. Secure your spot by signing up at https://thenavarrewhiskeysociety.my.canva.site/the-navarre-whiskey-society\, and enjoy guided whiskey selections\, a relaxed atmosphere\, and easy access to parking and nearby amenities.\n\nThe Navarre Whiskey Society is a community-focused organization dedicated to celebrating the rich world of whiskey. Our purpose is to educate members\, host tasting events\, and provide networking opportunities that bring together enthusiasts and newcomers alike.  \n\n\n\nThrough engaging in guided tastings\, we explore the history\, production methods\, and flavor profiles of whiskies from around the globe. Members enjoy exclusive access to curated events where they can sample at least three rare and classic expressions\, learn from industry experts\, and connect with fellow aficionados.\n\n\n\nWhether you're looking to deepen your knowledge\, discover new favorites\, or expand your professional network\, the Navarre Whiskey Society offers a welcoming environment for all who appreciate fine spirits and meaningful connections. Join us for our upcoming events and become part of a vibrant community that raises the bar on education\, enjoyment\, and camaraderie.
X-ALT-DESC;FMTTYPE=text/html:<span style="font-family:intervariable\,system-ui\,sans-serif\; font-size:14px">The Navarre Whiskey Society invites you to an evening of tasting and camaraderie on May 14th\, from 6:30PM to 9:00PM at the Emera Caf&eacute\; Coffee Exchange (hotel side)\, located across from the Beach House Social inside Spring Hill Suites\, 8375 Gulf Blvd\, Navarre Beach\, FL. Secure your spot by signing up at</span><span style="font-family:intervariable\,system-ui\,sans-serif\; font-size:14px">&nbsp\;</span><a href="https://thenavarrewhiskeysociety.my.canva.site/the-navarre-whiskey-society" style="caret-color: rgb(0\, 0\, 0)\; -webkit-text-size-adjust: auto\; box-sizing: inherit\; color: rgb(51\, 51\, 51)\; text-decoration-skip-ink: auto\; cursor: pointer\; quotes: &quot\;?&quot\; &quot\;?&quot\; &quot\;?&quot\; &quot\;?&quot\;\; scrollbar-width: thin\; line-height: 1\; font-family: InterVariable\, system-ui\, sans-serif\; font-size: 14px\;">https://thenavarrewhiskeysociety.my.canva.site/the-navarre-whiskey-society</a><span style="font-family:intervariable\,system-ui\,sans-serif\; font-size:14px">\, and </span><span style="font-family:intervariable\,system-ui\,sans-serif\; font-size:14px">enjoy guided whiskey selections\, a relaxed atmosphere\, and easy access to parking and nearby amenities</span><span style="font-family:intervariable\,system-ui\,sans-serif\; font-size:14px">.</span>\n<div>\n<p>The Navarre Whiskey Society is a community-focused organization dedicated to celebrating the rich world of whiskey. Our purpose is to educate members\, host tasting events\, and provide networking opportunities that bring together enthusiasts and newcomers alike. &nbsp\;</p>\n</div>\n\n<div>\n<p>Through engaging in guided tastings\, we explore the history\, production methods\, and flavor profiles of whiskies from around the globe. Members enjoy exclusive access to curated events where they can sample at least three rare and classic expressions\, learn from industry experts\, and connect with fellow aficionados.</p>\n</div>\n\n<div>\n<p>Whether you&rsquo\;re looking to deepen your knowledge\, discover new favorites\, or expand your professional network\, the Navarre Whiskey Society offers a welcoming environment for all who appreciate fine spirits and meaningful connections. Join us for our upcoming events and become part of a vibrant community that raises the bar on education\, enjoyment\, and camaraderie.</p>\n</div>\n
LOCATION:Emera Cafe Coffee Exchange - hotel side (across from the Beach House Social) Spring Hill Suites 8375 Gulf Blvd Navarre Beach\, FL 32566
UID:e.1694.34528
SEQUENCE:3
DTSTAMP:20260419T222904Z
URL:https://business.navarrechamber.com/events/details/the-navarre-whiskey-society-05-14-2026-34528
END:VEVENT

END:VCALENDAR
