BEGIN:VCALENDAR
VERSION:2.0
PRODID:-//ChamberMaster//Event Calendar 2.0//EN
METHOD:PUBLISH
X-PUBLISHED-TTL:P3D
REFRESH-INTERVAL:P3D
CALSCALE:GREGORIAN
BEGIN:VEVENT
DTSTART:20150918T230000Z
DTEND:20150919T010000Z
X-MICROSOFT-CDO-ALLDAYEVENT:FALSE
SUMMARY:The Science of Beer
DESCRIPTION:Hosted by the Emerald Coast Science Center in partnership with Grayton Beer Company.\n\n\n\nThis entertaining & educational evening will include light hors d'oeuvres and sampling great crafted beers.\n\n\n\nFor more information\, call: 850-664-1261\n\n\n\nwww.ecscience.org
X-ALT-DESC;FMTTYPE=text/html:Hosted by the Emerald Coast Science Center in partnership with Grayton Beer Company.<br />\n<br />\nThis entertaining &amp\; educational evening will include light hors d&#39\;oeuvres and sampling great crafted beers.<br />\n<br />\nFor more information\, call: 850-664-1261<br />\n<br />\n<a href="http://www.ecscience.org">www.ecscience.org</a>
LOCATION:Emerald Coast Science Center 31 SW Memorial Parkway Fort Walton Beach\, FL
UID:e.1694.5852
SEQUENCE:3
DTSTAMP:20260420T083407Z
URL:https://business.navarrechamber.com/events/details/the-science-of-beer-5852
END:VEVENT

END:VCALENDAR
