BEGIN:VCALENDAR
VERSION:2.0
PRODID:-//ChamberMaster//Event Calendar 2.0//EN
METHOD:PUBLISH
X-PUBLISHED-TTL:P3D
REFRESH-INTERVAL:P3D
CALSCALE:GREGORIAN
BEGIN:VEVENT
DTSTART:20150806T230000Z
DTEND:20150807T010000Z
X-MICROSOFT-CDO-ALLDAYEVENT:FALSE
SUMMARY:Thursdays in the Park
DESCRIPTION:FREE Summer Concert sponsored by:  Beach Community Bank and The UPS Store-Navarre
X-ALT-DESC;FMTTYPE=text/html:FREE Summer Concert sponsored by:&nbsp\; Beach Community Bank and The UPS Store-Navarre
LOCATION:Navarre Park 8543 Navarre Parkway
UID:e.1694.4532
SEQUENCE:3
DTSTAMP:20260420T112114Z
URL:https://business.navarrechamber.com/events/details/thursdays-in-the-park-4532
END:VEVENT

END:VCALENDAR
