BEGIN:VCALENDAR
VERSION:2.0
PRODID:-//ChamberMaster//Event Calendar 2.0//EN
METHOD:PUBLISH
X-PUBLISHED-TTL:P3D
REFRESH-INTERVAL:P3D
CALSCALE:GREGORIAN
BEGIN:VEVENT
DTSTART:20150813T230000Z
DTEND:20150814T010000Z
X-MICROSOFT-CDO-ALLDAYEVENT:FALSE
SUMMARY:Thursdays in the Park
DESCRIPTION:FREE Summer Concert with Chloe Channell\n\n\n\nSponsored by: Santa Rosa Medical Center
X-ALT-DESC;FMTTYPE=text/html:FREE Summer Concert with Chloe Channell<br />\n<br />\nSponsored by: Santa Rosa Medical Center
LOCATION:Navarre Park 8543 Navarre Parkway
UID:e.1694.4533
SEQUENCE:3
DTSTAMP:20260420T101325Z
URL:https://business.navarrechamber.com/events/details/thursdays-in-the-park-4533
END:VEVENT

END:VCALENDAR
