BEGIN:VCALENDAR
VERSION:2.0
PRODID:-//ChamberMaster//Event Calendar 2.0//EN
METHOD:PUBLISH
X-PUBLISHED-TTL:P3D
REFRESH-INTERVAL:P3D
CALSCALE:GREGORIAN
BEGIN:VEVENT
DTSTART:20150716T230000Z
DTEND:20150717T010000Z
X-MICROSOFT-CDO-ALLDAYEVENT:FALSE
SUMMARY:Thursdays in the Park with A Touch of Gray
DESCRIPTION:
X-ALT-DESC;FMTTYPE=text/html:
LOCATION:
UID:e.1694.4520
SEQUENCE:3
DTSTAMP:20260422T085912Z
URL:https://business.navarrechamber.com/events/details/thursdays-in-the-park-with-a-touch-of-gray-4520
END:VEVENT

END:VCALENDAR
