BEGIN:VCALENDAR
VERSION:2.0
PRODID:-//ChamberMaster//Event Calendar 2.0//EN
METHOD:PUBLISH
X-PUBLISHED-TTL:P3D
REFRESH-INTERVAL:P3D
CALSCALE:GREGORIAN
BEGIN:VEVENT
DTSTART;VALUE=DATE:20260521
DTEND;VALUE=DATE:20260522
TRANSP:TRANSPARENT
X-MICROSOFT-CDO-ALLDAYEVENT:TRUE
SUMMARY:Will Your Money Outlive You?
DESCRIPTION:Financial seminars and events - Jeremy Carver | Ameriprise Financial\n\nWill Your Money Outlive You? An Investing & Planning Workshop\n\nJoin us for an interactive workshop exploring how money really works\, how smart investing and planning can outpace inflation\, and how to turn savings into lasting income. Leave with clarity\, confidence\, and a simple path forward.\n\n \n\n\nDate: Thursday\, May 21\, 2026\n\nTime: 6:00 PM - 7:30 PM CDT\n\nLocation: Gulf Breeze Area Chamber of Commerce\, 3044 Gulf Breeze Pkwy\, Gulf Breeze\, FL 32563\n\n\n\nPresented By: Jeremy Carver\, Financial Advisor and Practice Manager - EPH Financial Advisors\, A financial advisory practice of Ameriprise Financial Services\, LLC\n\nHosted By: Jeremy Carver\, Financial Advisor and Practice Manager\n\nTo reserve a spot: call us at 850.390.7224 or email us at nicki.dalton@ampf.com
X-ALT-DESC;FMTTYPE=text/html:<p><a href="https://www.ameripriseadvisors.com/jeremy.carver/events/">Financial seminars and events - Jeremy Carver | Ameriprise Financial</a></p>\n\n<p>Will Your Money Outlive You? An Investing &amp\; Planning Workshop<br />\n<span style="color:rgb(31\, 34\, 38)\; font-family:roboto\,arial\,sans-serif\; font-size:16px">Join us for an interactive workshop exploring how money really works\, how smart investing and planning can outpace inflation\, and how to turn savings into lasting income. Leave with clarity\, confidence\, and a simple path forward.</span><br />\n&nbsp\;</p>\n\n<div>\n<p>Date:&nbsp\;Thursday\, May 21\, 2026</p>\n\n<p>Time:&nbsp\;6:00 PM - 7:30 PM&nbsp\;CDT</p>\n\n<p>Location:&nbsp\;<a class="map-link" href="https://maps.google.com/maps?hl=en&amp\;ll=30.385814666748\,-87.0973739624023&amp\;q=3044%20Gulf%20Breeze%20Pkwy%20\,%20Gulf%20Breeze\,%20FL%2032563" id="ctl00_cp1_ctlEvents_rptEvents_ctl00_ctlAdminEvent_ctl00_aMap" style="background-color: transparent\; color: rgb(4\, 108\, 184)\; font-size: 1em\; line-height: 1.4375em\; box-sizing: border-box\;" target="_blank">Gulf Breeze Area Chamber of Commerce\, 3044 Gulf Breeze Pkwy\, Gulf Breeze\, FL 32563</a></p>\n</div>\n\n<div>\n<p>Presented By:&nbsp\;Jeremy Carver\, Financial Advisor and Practice Manager - EPH Financial Advisors\, A financial advisory practice of Ameriprise Financial Services\, LLC</p>\n\n<p>Hosted By:&nbsp\;Jeremy Carver\, Financial Advisor and Practice Manager<br />\n<span style="color:rgb(31\, 34\, 38)\; font-family:roboto\,arial\,sans-serif\; font-size:16px">To reserve a spot: call us at&nbsp\;</span><strong><a class="tel" href="tel:8503907224" id="ctl00_cp1_ctlEvents_rptEvents_ctl00_ctlAdminEvent_ctl00_lnkReservationPhoneNumber" style="background-color: transparent\; color: rgb(31\, 34\, 38)\; text-decoration: none\; font-size: 1em\; line-height: 1.4375em\; cursor: default\; box-sizing: border-box\;">850.390.7224</a></strong><span style="color:rgb(31\, 34\, 38)\; font-family:roboto\,arial\,sans-serif\; font-size:16px">&nbsp\;or email us at&nbsp\;</span><a href="mailto:nicki.dalton@ampf.com?subject=Will%20Your%20Money%20Outlive%20You?%20An%20Investing%20%26%20Planning%20Workshop" id="ctl00_cp1_ctlEvents_rptEvents_ctl00_ctlAdminEvent_ctl00_lnkReservationEmail" style="color: rgb(4\, 108\, 184)\; font-size: 16px\; line-height: 1.4375em\; box-sizing: border-box\; font-family: Roboto\, Arial\, sans-serif\;">nicki.dalton@ampf.com</a></p>\n</div>\n\n<p>&nbsp\;</p>\n
LOCATION:Location: Gulf Breeze Area Chamber of Commerce\, 3044 Gulf Breeze Pkwy\, Gulf Breeze\, FL 32563
UID:e.1694.34754
SEQUENCE:3
DTSTAMP:20260421T124517Z
URL:https://business.navarrechamber.com/events/details/will-your-money-outlive-you-34754
END:VEVENT

END:VCALENDAR
