BEGIN:VCALENDAR
VERSION:2.0
PRODID:-//ChamberMaster//Event Calendar 2.0//EN
METHOD:PUBLISH
X-PUBLISHED-TTL:P3D
REFRESH-INTERVAL:P3D
CALSCALE:GREGORIAN
BEGIN:VEVENT
DTSTART:20150715T163000Z
DTEND:20150715T180000Z
X-MICROSOFT-CDO-ALLDAYEVENT:FALSE
SUMMARY:Women 2 Women Connecting
DESCRIPTION:CLICK HERE for a copy of the July flyer
X-ALT-DESC;FMTTYPE=text/html:<a href="http://cloud.chambermaster.com/userfiles/UserFiles/chambers/1694/File/July2015flyer.pdf">CLICK HERE</a> for a copy of the July flyer
LOCATION:
UID:e.1694.3672
SEQUENCE:3
DTSTAMP:20260420T113343Z
URL:https://business.navarrechamber.com/events/details/women-2-women-connecting-3672
END:VEVENT

END:VCALENDAR
