BEGIN:VCALENDAR
VERSION:2.0
PRODID:-//ChamberMaster//Event Calendar 2.0//EN
METHOD:PUBLISH
X-PUBLISHED-TTL:P3D
REFRESH-INTERVAL:P3D
CALSCALE:GREGORIAN
BEGIN:VEVENT
DTSTART:20150916T163000Z
DTEND:20150916T180000Z
X-MICROSOFT-CDO-ALLDAYEVENT:FALSE
SUMMARY:Women 2 Women Connecting
DESCRIPTION:CLICK HERE for a copy of the flyer
X-ALT-DESC;FMTTYPE=text/html:<a href="http://cloud.chambermaster.com/userfiles/UserFiles/chambers/1694/File/Sept2015flyer.pdf">CLICK HERE </a>for a copy of the flyer
LOCATION:Navarre Chamber 8543 Navarre Parkway
UID:e.1694.5855
SEQUENCE:3
DTSTAMP:20260420T083415Z
URL:https://business.navarrechamber.com/events/details/women-2-women-connecting-5855
END:VEVENT

END:VCALENDAR
