BEGIN:VCALENDAR
VERSION:2.0
PRODID:-//ChamberMaster//Event Calendar 2.0//EN
METHOD:PUBLISH
X-PUBLISHED-TTL:P3D
REFRESH-INTERVAL:P3D
CALSCALE:GREGORIAN
BEGIN:VEVENT
DTSTART:20150917T190000Z
DTEND:20150917T200000Z
X-MICROSOFT-CDO-ALLDAYEVENT:FALSE
SUMMARY:Women's Expo Committee
DESCRIPTION:
X-ALT-DESC;FMTTYPE=text/html:
LOCATION:Navarre Chamber 8543 Navarre Parkway
UID:e.1694.5857
SEQUENCE:3
DTSTAMP:20260420T083609Z
URL:https://business.navarrechamber.com/events/details/women-s-expo-committee-5857
END:VEVENT

END:VCALENDAR
