BEGIN:VCALENDAR
VERSION:2.0
PRODID:-//ChamberMaster//Event Calendar 2.0//EN
METHOD:PUBLISH
X-PUBLISHED-TTL:P3D
REFRESH-INTERVAL:P3D
CALSCALE:GREGORIAN
BEGIN:VEVENT
DTSTART:20240312T130000Z
DTEND:20240312T140000Z
X-MICROSOFT-CDO-ALLDAYEVENT:FALSE
SUMMARY:WOOFSTOCK 2024 Committee Meeting
DESCRIPTION:
X-ALT-DESC;FMTTYPE=text/html:
LOCATION:Pik-itz! Art & Antiques
UID:e.1694.27018
SEQUENCE:3
DTSTAMP:20260421T084518Z
URL:https://business.navarrechamber.com/events/details/woofstock-2024-committee-meeting-27018
END:VEVENT

END:VCALENDAR
