BEGIN:VCALENDAR
VERSION:2.0
PRODID:-//ChamberMaster//Event Calendar 2.0//EN
METHOD:PUBLISH
X-PUBLISHED-TTL:P3D
REFRESH-INTERVAL:P3D
CALSCALE:GREGORIAN
BEGIN:VEVENT
DTSTART:20241120T233000Z
DTEND:20241121T010000Z
X-MICROSOFT-CDO-ALLDAYEVENT:FALSE
SUMMARY:Young Professionals at Where Y'at Seafood Market & Restaurant
DESCRIPTION:All Young Professionals (21ish-40ish) in the Navarre area are invited to attend on Wednesday\, November 20th at 5:30 pm - 7 pm at Where Y'at Seafood Market & Restaurant.\n\n\n\nEntry Fee:  $10 - Chamber Members\n\n\n\n$15 - Prospective Chamber Members and Guests\n\n\n\nUpon check-in\, you will receive an armband for entry to the event.\n\n\n\n\n\n\n\nThe Navarre Beach Area Chamber of Commerce launched this new initiative Young Professionals in August 2023.  This is a fun and engaging networking opportunity for young adults to get connected with their community and potential business partners\, employers\, mentors\, or professional peers.\n\n  \n\nThis event is open to all young professionals who are interested in learning more about the Young Professionals of the Navarre Chamber.\n\n \n\nThe Navarre Chamber was founded in 1973 with a mission to serve its members as the voice and advocate of business in the Navarre area\, and to make our community the best place to live\, work and visit. As the second largest chamber in Santa Rosa County\, membership provides both immediate and long-term benefits for your business and helps build momentum for our community's future.\n\n \n\nTo learn more about the chamber or register for the Young Professionals social on Wednesday\, November 20th at Where Y'at Seafood Market & Restaurant\, visit www.navarrechamber.com or email Chanda.Ryan@NavarreChamber.com.\n\n\n\n\n\nDISCLAIMER: While YPs is primarily geared toward individuals between the ages of 21-40ish\, we welcome all "young at heart" professionals to participate.
X-ALT-DESC;FMTTYPE=text/html:<span style="font-size: 16px\; font-family: Oxygen\, sans-serif\; -webkit-tap-highlight-color: rgba(0\, 0\, 0\, 0)\; -webkit-text-size-adjust: 100%\;">All Young Professionals (21ish-40ish) in the Navarre area are invited to attend on Wednesday\, November 20th at 5:30 pm - 7 pm at </span><span style="font-size:16px\;"><em><strong>Where Y&#39\;at Seafood Market &amp\; Restaurant</strong></em></span><span style="font-size: 16px\; font-family: Oxygen\, sans-serif\; -webkit-tap-highlight-color: rgba(0\, 0\, 0\, 0)\; -webkit-text-size-adjust: 100%\;">.</span><br style="font-size: 16px\; box-sizing: border-box\; font-family: Oxygen\, sans-serif\; -webkit-tap-highlight-color: rgba(0\, 0\, 0\, 0)\; -webkit-text-size-adjust: 100%\;" />\n<br style="font-size: 16px\; box-sizing: border-box\; font-family: Oxygen\, sans-serif\; -webkit-tap-highlight-color: rgba(0\, 0\, 0\, 0)\; -webkit-text-size-adjust: 100%\;" />\n<span style="font-size: 16px\; font-family: Oxygen\, sans-serif\; -webkit-tap-highlight-color: rgba(0\, 0\, 0\, 0)\; -webkit-text-size-adjust: 100%\;">Entry Fee:&nbsp\; $10 - Chamber Members</span><br style="font-size: 16px\; box-sizing: border-box\; font-family: Oxygen\, sans-serif\; -webkit-tap-highlight-color: rgba(0\, 0\, 0\, 0)\; -webkit-text-size-adjust: 100%\;" />\n<br style="font-size: 16px\; box-sizing: border-box\; font-family: Oxygen\, sans-serif\; -webkit-tap-highlight-color: rgba(0\, 0\, 0\, 0)\; -webkit-text-size-adjust: 100%\;" />\n<span style="font-size: 16px\; font-family: Oxygen\, sans-serif\; -webkit-tap-highlight-color: rgba(0\, 0\, 0\, 0)\; -webkit-text-size-adjust: 100%\;">$15 - Prospective Chamber Members and Guests</span><br style="font-size: 16px\; box-sizing: border-box\; font-family: Oxygen\, sans-serif\; -webkit-tap-highlight-color: rgba(0\, 0\, 0\, 0)\; -webkit-text-size-adjust: 100%\;" />\n<br style="font-size: 16px\; box-sizing: border-box\; font-family: Oxygen\, sans-serif\; -webkit-tap-highlight-color: rgba(0\, 0\, 0\, 0)\; -webkit-text-size-adjust: 100%\;" />\n<span style="font-size: 16px\; font-family: Oxygen\, sans-serif\; -webkit-tap-highlight-color: rgba(0\, 0\, 0\, 0)\; -webkit-text-size-adjust: 100%\;">Upon check-in\, you will receive an armband for entry to&nbsp\;the event.</span><br style="font-size: 16px\; box-sizing: border-box\; font-family: Oxygen\, sans-serif\; -webkit-tap-highlight-color: rgba(0\, 0\, 0\, 0)\; -webkit-text-size-adjust: 100%\;" />\n<br style="font-size: 16px\; box-sizing: border-box\; font-family: Oxygen\, sans-serif\; -webkit-tap-highlight-color: rgba(0\, 0\, 0\, 0)\; -webkit-text-size-adjust: 100%\;" />\n<br style="font-size: 16px\; box-sizing: border-box\; font-family: Oxygen\, sans-serif\; -webkit-tap-highlight-color: rgba(0\, 0\, 0\, 0)\; -webkit-text-size-adjust: 100%\;" />\n<br style="font-size: 16px\; box-sizing: border-box\; font-family: Oxygen\, sans-serif\; -webkit-tap-highlight-color: rgba(0\, 0\, 0\, 0)\; -webkit-text-size-adjust: 100%\;" />\n<span style="font-size: 16px\; font-family: Oxygen\, sans-serif\; -webkit-tap-highlight-color: rgba(0\, 0\, 0\, 0)\; -webkit-text-size-adjust: 100%\;">The Navarre Beach Area Chamber of Commerce launched this new initiative Young Professionals in August 2023.&nbsp\;</span><span style="font-size: 16px\; box-sizing: border-box\; font-family: Oxygen\, sans-serif\; -webkit-tap-highlight-color: rgba(0\, 0\, 0\, 0)\; -webkit-text-size-adjust: 100%\; color: black\;">&nbsp\;This is a fun&nbsp\;</span><span style="font-size: 16px\; font-family: Oxygen\, sans-serif\; -webkit-tap-highlight-color: rgba(0\, 0\, 0\, 0)\; -webkit-text-size-adjust: 100%\;">and engaging networking opportunity for young adults to get connected with their community and potential business partners\, employers\, mentors\, or professional peers.</span><br style="font-size: 16px\; box-sizing: border-box\; font-family: Oxygen\, sans-serif\; -webkit-tap-highlight-color: rgba(0\, 0\, 0\, 0)\; -webkit-text-size-adjust: 100%\;" />\n<span style="font-size: 16px\; font-family: Oxygen\, sans-serif\; -webkit-tap-highlight-color: rgba(0\, 0\, 0\, 0)\; -webkit-text-size-adjust: 100%\;">&nbsp\;</span><span style="font-size: 16px\; font-family: Oxygen\, sans-serif\; -webkit-tap-highlight-color: rgba(0\, 0\, 0\, 0)\; -webkit-text-size-adjust: 100%\;">&nbsp\;</span><br />\n<span style="font-size: 16px\; font-family: Oxygen\, sans-serif\; -webkit-tap-highlight-color: rgba(0\, 0\, 0\, 0)\; -webkit-text-size-adjust: 100%\;">This event is open to all young professionals who are interested in learning more about the Young Professionals of the Navarre Chamber.</span><br style="font-size: 16px\; box-sizing: border-box\; font-family: Oxygen\, sans-serif\; -webkit-tap-highlight-color: rgba(0\, 0\, 0\, 0)\; -webkit-text-size-adjust: 100%\;" />\n<span style="font-size: 16px\; font-family: Oxygen\, sans-serif\; -webkit-tap-highlight-color: rgba(0\, 0\, 0\, 0)\; -webkit-text-size-adjust: 100%\;">&nbsp\;</span><br style="font-size: 16px\; box-sizing: border-box\; font-family: Oxygen\, sans-serif\; -webkit-tap-highlight-color: rgba(0\, 0\, 0\, 0)\; -webkit-text-size-adjust: 100%\;" />\n<span style="font-size: 16px\; font-family: Oxygen\, sans-serif\; -webkit-tap-highlight-color: rgba(0\, 0\, 0\, 0)\; -webkit-text-size-adjust: 100%\;">The Navarre Chamber was founded in 1973 with a mission to serve its members as the voice and advocate of business in the Navarre area\, and to make our community the best place to live\, work and visit. As the second largest chamber in Santa Rosa County\, membership provides both immediate and long-term benefits for your business and helps build momentum for our community&rsquo\;s future.</span><br style="font-size: 16px\; box-sizing: border-box\; font-family: Oxygen\, sans-serif\; -webkit-tap-highlight-color: rgba(0\, 0\, 0\, 0)\; -webkit-text-size-adjust: 100%\;" />\n<span style="font-size: 16px\; font-family: Oxygen\, sans-serif\; -webkit-tap-highlight-color: rgba(0\, 0\, 0\, 0)\; -webkit-text-size-adjust: 100%\;">&nbsp\;</span><br style="font-size: 16px\; box-sizing: border-box\; font-family: Oxygen\, sans-serif\; -webkit-tap-highlight-color: rgba(0\, 0\, 0\, 0)\; -webkit-text-size-adjust: 100%\;" />\n<span style="font-size: 16px\; font-family: Oxygen\, sans-serif\; -webkit-tap-highlight-color: rgba(0\, 0\, 0\, 0)\; -webkit-text-size-adjust: 100%\;">To learn more about the chamber or register for the Young Professionals social on Wednesday\, November 20th at </span><span style="font-size:16px\;"><strong><em>Where Y&#39\;at Seafood Market &amp\; Restaurant</em></strong></span><span style="font-size: 16px\; font-family: Oxygen\, sans-serif\; -webkit-tap-highlight-color: rgba(0\, 0\, 0\, 0)\; -webkit-text-size-adjust: 100%\;">\, visit&nbsp\;</span><u><strong><a href="http://www.navarrechamber.com/" style="font-size: 16px\; box-sizing: border-box\; color: rgb(71\, 44\, 95)\; text-decoration: none\; overflow-wrap: break-word\; outline: 0px\; font-family: Oxygen\, sans-serif\; -webkit-tap-highlight-color: rgba(0\, 0\, 0\, 0)\; -webkit-text-size-adjust: 100%\;">www.navarrechamber.com</a></strong></u><span style="font-size: 16px\; font-family: Oxygen\, sans-serif\; -webkit-tap-highlight-color: rgba(0\, 0\, 0\, 0)\; -webkit-text-size-adjust: 100%\;">&nbsp\;or email&nbsp\;</span><u><strong><a href="mailto:Chanda.Ryan@NavarreChamber.com" style="font-size: 16px\; box-sizing: border-box\; color: rgb(71\, 44\, 95)\; text-decoration: none\; overflow-wrap: break-word\; outline: 0px\; font-family: Oxygen\, sans-serif\; -webkit-tap-highlight-color: rgba(0\, 0\, 0\, 0)\; -webkit-text-size-adjust: 100%\;">Chanda.Ryan@NavarreChamber.com</a></strong></u><span style="font-size: 16px\; font-family: Oxygen\, sans-serif\; -webkit-tap-highlight-color: rgba(0\, 0\, 0\, 0)\; -webkit-text-size-adjust: 100%\;">.</span><br style="font-size: 16px\; box-sizing: border-box\; font-family: Oxygen\, sans-serif\; -webkit-tap-highlight-color: rgba(0\, 0\, 0\, 0)\; -webkit-text-size-adjust: 100%\;" />\n<br style="font-size: 16px\; box-sizing: border-box\; font-family: Oxygen\, sans-serif\; -webkit-tap-highlight-color: rgba(0\, 0\, 0\, 0)\; -webkit-text-size-adjust: 100%\;" />\n<br style="font-size: 16px\; box-sizing: border-box\; font-family: Oxygen\, sans-serif\; -webkit-tap-highlight-color: rgba(0\, 0\, 0\, 0)\; -webkit-text-size-adjust: 100%\;" />\n<em style="font-size: 16px\; box-sizing: border-box\; font-family: Oxygen\, sans-serif\; -webkit-tap-highlight-color: rgba(0\, 0\, 0\, 0)\; -webkit-text-size-adjust: 100%\;"><span style="box-sizing: border-box\;"><u style="box-sizing: border-box\;">DISCLAIMER</u>:&nbsp\;</span>While YPs is primarily geared toward individuals between the ages of 21-40ish\, we welcome all &quot\;young at heart&quot\; professionals to participate.</em><br style="font-size: 16px\; box-sizing: border-box\; font-family: Oxygen\, sans-serif\; -webkit-tap-highlight-color: rgba(0\, 0\, 0\, 0)\; -webkit-text-size-adjust: 100%\;" />\n<br style="font-size: 16px\; box-sizing: border-box\; font-family: Oxygen\, sans-serif\; -webkit-tap-highlight-color: rgba(0\, 0\, 0\, 0)\; -webkit-text-size-adjust: 100%\;" />\n<span style="font-size: 16px\; font-family: Oxygen\, sans-serif\; -webkit-tap-highlight-color: rgba(0\, 0\, 0\, 0)\; -webkit-text-size-adjust: 100%\;">&nbsp\;</span>
LOCATION:Where Y'at Seafood Market & Restaurant
UID:e.1694.25967
SEQUENCE:3
DTSTAMP:20260419T194852Z
URL:https://business.navarrechamber.com/events/details/young-professionals-at-where-y-at-seafood-market-restaurant-11-20-2024-25967
END:VEVENT

END:VCALENDAR
